BEGIN:VCALENDAR
VERSION:2.0
PRODID:-//Cencogan - ECPv6.4.0.1//NONSGML v1.0//EN
CALSCALE:GREGORIAN
METHOD:PUBLISH
X-ORIGINAL-URL:https://cencogan.com
X-WR-CALDESC:Eventos para Cencogan
REFRESH-INTERVAL;VALUE=DURATION:PT1H
X-Robots-Tag:noindex
X-PUBLISHED-TTL:PT1H
BEGIN:VTIMEZONE
TZID:America/New_York
BEGIN:DAYLIGHT
TZOFFSETFROM:-0500
TZOFFSETTO:-0400
TZNAME:EDT
DTSTART:20240310T070000
END:DAYLIGHT
BEGIN:STANDARD
TZOFFSETFROM:-0400
TZOFFSETTO:-0500
TZNAME:EST
DTSTART:20241103T060000
END:STANDARD
BEGIN:DAYLIGHT
TZOFFSETFROM:-0500
TZOFFSETTO:-0400
TZNAME:EDT
DTSTART:20250309T070000
END:DAYLIGHT
BEGIN:STANDARD
TZOFFSETFROM:-0400
TZOFFSETTO:-0500
TZNAME:EST
DTSTART:20251102T060000
END:STANDARD
END:VTIMEZONE
BEGIN:VEVENT
DTSTART;TZID=America/New_York:20250318T130000
DTEND;TZID=America/New_York:20250318T130000
DTSTAMP:20260421T092011
CREATED:20230718T152804Z
LAST-MODIFIED:20240606T140250Z
UID:10001688-1742302800-1742302800@cencogan.com
SUMMARY:Subasta comercial
DESCRIPTION:Registrese y\nCompre \nVer el\nReglamento \nInformes\n300 693 7161
URL:https://cencogan.com/evento/subasta-semanal-planeta-rica/2025-03-18/
LOCATION:Cencogan Planeta Rica\, Planeta Rica\, Colombia
CATEGORIES:General,Planeta Rica
ATTACH;FMTTYPE=image/jpeg:https://cencogan.com/wp-content/uploads/2023/04/banner1.jpg
END:VEVENT
BEGIN:VEVENT
DTSTART;TZID=America/New_York:20250311T130000
DTEND;TZID=America/New_York:20250311T130000
DTSTAMP:20260421T092011
CREATED:20230718T152804Z
LAST-MODIFIED:20240606T140250Z
UID:10001687-1741698000-1741698000@cencogan.com
SUMMARY:Subasta comercial
DESCRIPTION:Registrese y\nCompre \nVer el\nReglamento \nInformes\n300 693 7161
URL:https://cencogan.com/evento/subasta-semanal-planeta-rica/2025-03-11/
LOCATION:Cencogan Planeta Rica\, Planeta Rica\, Colombia
CATEGORIES:General,Planeta Rica
ATTACH;FMTTYPE=image/jpeg:https://cencogan.com/wp-content/uploads/2023/04/banner1.jpg
END:VEVENT
BEGIN:VEVENT
DTSTART;TZID=America/New_York:20250304T130000
DTEND;TZID=America/New_York:20250304T130000
DTSTAMP:20260421T092012
CREATED:20230718T152804Z
LAST-MODIFIED:20240606T140250Z
UID:10001686-1741093200-1741093200@cencogan.com
SUMMARY:Subasta comercial
DESCRIPTION:Registrese y\nCompre \nVer el\nReglamento \nInformes\n300 693 7161
URL:https://cencogan.com/evento/subasta-semanal-planeta-rica/2025-03-04/
LOCATION:Cencogan Planeta Rica\, Planeta Rica\, Colombia
CATEGORIES:General,Planeta Rica
ATTACH;FMTTYPE=image/jpeg:https://cencogan.com/wp-content/uploads/2023/04/banner1.jpg
END:VEVENT
BEGIN:VEVENT
DTSTART;TZID=America/New_York:20250225T130000
DTEND;TZID=America/New_York:20250225T130000
DTSTAMP:20260421T092012
CREATED:20230718T152804Z
LAST-MODIFIED:20240606T140250Z
UID:10001685-1740488400-1740488400@cencogan.com
SUMMARY:Subasta comercial
DESCRIPTION:Registrese y\nCompre \nVer el\nReglamento \nInformes\n300 693 7161
URL:https://cencogan.com/evento/subasta-semanal-planeta-rica/2025-02-25/
LOCATION:Cencogan Planeta Rica\, Planeta Rica\, Colombia
CATEGORIES:General,Planeta Rica
ATTACH;FMTTYPE=image/jpeg:https://cencogan.com/wp-content/uploads/2023/04/banner1.jpg
END:VEVENT
BEGIN:VEVENT
DTSTART;TZID=America/New_York:20250218T130000
DTEND;TZID=America/New_York:20250218T130000
DTSTAMP:20260421T092012
CREATED:20230718T152804Z
LAST-MODIFIED:20240606T140250Z
UID:10001684-1739883600-1739883600@cencogan.com
SUMMARY:Subasta comercial
DESCRIPTION:Registrese y\nCompre \nVer el\nReglamento \nInformes\n300 693 7161
URL:https://cencogan.com/evento/subasta-semanal-planeta-rica/2025-02-18/
LOCATION:Cencogan Planeta Rica\, Planeta Rica\, Colombia
CATEGORIES:General,Planeta Rica
ATTACH;FMTTYPE=image/jpeg:https://cencogan.com/wp-content/uploads/2023/04/banner1.jpg
END:VEVENT
BEGIN:VEVENT
DTSTART;TZID=America/New_York:20250211T130000
DTEND;TZID=America/New_York:20250211T130000
DTSTAMP:20260421T092012
CREATED:20230718T152804Z
LAST-MODIFIED:20240606T140250Z
UID:10001683-1739278800-1739278800@cencogan.com
SUMMARY:Subasta comercial
DESCRIPTION:Registrese y\nCompre \nVer el\nReglamento \nInformes\n300 693 7161
URL:https://cencogan.com/evento/subasta-semanal-planeta-rica/2025-02-11/
LOCATION:Cencogan Planeta Rica\, Planeta Rica\, Colombia
CATEGORIES:General,Planeta Rica
ATTACH;FMTTYPE=image/jpeg:https://cencogan.com/wp-content/uploads/2023/04/banner1.jpg
END:VEVENT
BEGIN:VEVENT
DTSTART;TZID=America/New_York:20250204T130000
DTEND;TZID=America/New_York:20250204T130000
DTSTAMP:20260421T092012
CREATED:20230718T152804Z
LAST-MODIFIED:20240606T140250Z
UID:10001682-1738674000-1738674000@cencogan.com
SUMMARY:Subasta comercial
DESCRIPTION:Registrese y\nCompre \nVer el\nReglamento \nInformes\n300 693 7161
URL:https://cencogan.com/evento/subasta-semanal-planeta-rica/2025-02-04/
LOCATION:Cencogan Planeta Rica\, Planeta Rica\, Colombia
CATEGORIES:General,Planeta Rica
ATTACH;FMTTYPE=image/jpeg:https://cencogan.com/wp-content/uploads/2023/04/banner1.jpg
END:VEVENT
BEGIN:VEVENT
DTSTART;TZID=America/New_York:20250128T130000
DTEND;TZID=America/New_York:20250128T130000
DTSTAMP:20260421T092012
CREATED:20230718T152804Z
LAST-MODIFIED:20240606T140250Z
UID:10001681-1738069200-1738069200@cencogan.com
SUMMARY:Subasta comercial
DESCRIPTION:Registrese y\nCompre \nVer el\nReglamento \nInformes\n300 693 7161
URL:https://cencogan.com/evento/subasta-semanal-planeta-rica/2025-01-28/
LOCATION:Cencogan Planeta Rica\, Planeta Rica\, Colombia
CATEGORIES:General,Planeta Rica
ATTACH;FMTTYPE=image/jpeg:https://cencogan.com/wp-content/uploads/2023/04/banner1.jpg
END:VEVENT
BEGIN:VEVENT
DTSTART;TZID=America/New_York:20250121T130000
DTEND;TZID=America/New_York:20250121T130000
DTSTAMP:20260421T092012
CREATED:20230718T152804Z
LAST-MODIFIED:20240606T140250Z
UID:10001680-1737464400-1737464400@cencogan.com
SUMMARY:Subasta comercial
DESCRIPTION:Registrese y\nCompre \nVer el\nReglamento \nInformes\n300 693 7161
URL:https://cencogan.com/evento/subasta-semanal-planeta-rica/2025-01-21/
LOCATION:Cencogan Planeta Rica\, Planeta Rica\, Colombia
CATEGORIES:General,Planeta Rica
ATTACH;FMTTYPE=image/jpeg:https://cencogan.com/wp-content/uploads/2023/04/banner1.jpg
END:VEVENT
BEGIN:VEVENT
DTSTART;TZID=America/New_York:20250114T130000
DTEND;TZID=America/New_York:20250114T130000
DTSTAMP:20260421T092012
CREATED:20230718T152804Z
LAST-MODIFIED:20240606T140250Z
UID:10001679-1736859600-1736859600@cencogan.com
SUMMARY:Subasta comercial
DESCRIPTION:Registrese y\nCompre \nVer el\nReglamento \nInformes\n300 693 7161
URL:https://cencogan.com/evento/subasta-semanal-planeta-rica/2025-01-14/
LOCATION:Cencogan Planeta Rica\, Planeta Rica\, Colombia
CATEGORIES:General,Planeta Rica
ATTACH;FMTTYPE=image/jpeg:https://cencogan.com/wp-content/uploads/2023/04/banner1.jpg
END:VEVENT
BEGIN:VEVENT
DTSTART;TZID=America/New_York:20250107T130000
DTEND;TZID=America/New_York:20250107T130000
DTSTAMP:20260421T092012
CREATED:20230718T152804Z
LAST-MODIFIED:20240606T140250Z
UID:10001678-1736254800-1736254800@cencogan.com
SUMMARY:Subasta comercial
DESCRIPTION:Registrese y\nCompre \nVer el\nReglamento \nInformes\n300 693 7161
URL:https://cencogan.com/evento/subasta-semanal-planeta-rica/2025-01-07/
LOCATION:Cencogan Planeta Rica\, Planeta Rica\, Colombia
CATEGORIES:General,Planeta Rica
ATTACH;FMTTYPE=image/jpeg:https://cencogan.com/wp-content/uploads/2023/04/banner1.jpg
END:VEVENT
BEGIN:VEVENT
DTSTART;TZID=America/New_York:20241231T130000
DTEND;TZID=America/New_York:20241231T130000
DTSTAMP:20260421T092012
CREATED:20230718T152804Z
LAST-MODIFIED:20240606T140250Z
UID:10001677-1735650000-1735650000@cencogan.com
SUMMARY:Subasta comercial
DESCRIPTION:Registrese y\nCompre \nVer el\nReglamento \nInformes\n300 693 7161
URL:https://cencogan.com/evento/subasta-semanal-planeta-rica/2024-12-31/
LOCATION:Cencogan Planeta Rica\, Planeta Rica\, Colombia
CATEGORIES:General,Planeta Rica
ATTACH;FMTTYPE=image/jpeg:https://cencogan.com/wp-content/uploads/2023/04/banner1.jpg
END:VEVENT
BEGIN:VEVENT
DTSTART;TZID=America/New_York:20241224T130000
DTEND;TZID=America/New_York:20241224T130000
DTSTAMP:20260421T092012
CREATED:20230718T152804Z
LAST-MODIFIED:20240606T140250Z
UID:10001676-1735045200-1735045200@cencogan.com
SUMMARY:Subasta comercial
DESCRIPTION:Registrese y\nCompre \nVer el\nReglamento \nInformes\n300 693 7161
URL:https://cencogan.com/evento/subasta-semanal-planeta-rica/2024-12-24/
LOCATION:Cencogan Planeta Rica\, Planeta Rica\, Colombia
CATEGORIES:General,Planeta Rica
ATTACH;FMTTYPE=image/jpeg:https://cencogan.com/wp-content/uploads/2023/04/banner1.jpg
END:VEVENT
BEGIN:VEVENT
DTSTART;TZID=America/New_York:20241217T130000
DTEND;TZID=America/New_York:20241217T130000
DTSTAMP:20260421T092012
CREATED:20230718T152804Z
LAST-MODIFIED:20240606T140250Z
UID:10001675-1734440400-1734440400@cencogan.com
SUMMARY:Subasta comercial
DESCRIPTION:Registrese y\nCompre \nVer el\nReglamento \nInformes\n300 693 7161
URL:https://cencogan.com/evento/subasta-semanal-planeta-rica/2024-12-17/
LOCATION:Cencogan Planeta Rica\, Planeta Rica\, Colombia
CATEGORIES:General,Planeta Rica
ATTACH;FMTTYPE=image/jpeg:https://cencogan.com/wp-content/uploads/2023/04/banner1.jpg
END:VEVENT
BEGIN:VEVENT
DTSTART;TZID=America/New_York:20241210T130000
DTEND;TZID=America/New_York:20241210T130000
DTSTAMP:20260421T092012
CREATED:20230718T152804Z
LAST-MODIFIED:20240606T140250Z
UID:10001674-1733835600-1733835600@cencogan.com
SUMMARY:Subasta comercial
DESCRIPTION:Registrese y\nCompre \nVer el\nReglamento \nInformes\n300 693 7161
URL:https://cencogan.com/evento/subasta-semanal-planeta-rica/2024-12-10/
LOCATION:Cencogan Planeta Rica\, Planeta Rica\, Colombia
CATEGORIES:General,Planeta Rica
ATTACH;FMTTYPE=image/jpeg:https://cencogan.com/wp-content/uploads/2023/04/banner1.jpg
END:VEVENT
BEGIN:VEVENT
DTSTART;TZID=America/New_York:20241203T130000
DTEND;TZID=America/New_York:20241203T130000
DTSTAMP:20260421T092012
CREATED:20230718T152804Z
LAST-MODIFIED:20240606T140250Z
UID:10001673-1733230800-1733230800@cencogan.com
SUMMARY:Subasta comercial
DESCRIPTION:Registrese y\nCompre \nVer el\nReglamento \nInformes\n300 693 7161
URL:https://cencogan.com/evento/subasta-semanal-planeta-rica/2024-12-03/
LOCATION:Cencogan Planeta Rica\, Planeta Rica\, Colombia
CATEGORIES:General,Planeta Rica
ATTACH;FMTTYPE=image/jpeg:https://cencogan.com/wp-content/uploads/2023/04/banner1.jpg
END:VEVENT
BEGIN:VEVENT
DTSTART;TZID=America/New_York:20241126T130000
DTEND;TZID=America/New_York:20241126T130000
DTSTAMP:20260421T092012
CREATED:20230718T152804Z
LAST-MODIFIED:20240606T140250Z
UID:10001672-1732626000-1732626000@cencogan.com
SUMMARY:Subasta comercial
DESCRIPTION:Registrese y\nCompre \nVer el\nReglamento \nInformes\n300 693 7161
URL:https://cencogan.com/evento/subasta-semanal-planeta-rica/2024-11-26/
LOCATION:Cencogan Planeta Rica\, Planeta Rica\, Colombia
CATEGORIES:General,Planeta Rica
ATTACH;FMTTYPE=image/jpeg:https://cencogan.com/wp-content/uploads/2023/04/banner1.jpg
END:VEVENT
BEGIN:VEVENT
DTSTART;TZID=America/New_York:20241119T130000
DTEND;TZID=America/New_York:20241119T130000
DTSTAMP:20260421T092012
CREATED:20230718T152804Z
LAST-MODIFIED:20240606T140250Z
UID:10001671-1732021200-1732021200@cencogan.com
SUMMARY:Subasta comercial
DESCRIPTION:Registrese y\nCompre \nVer el\nReglamento \nInformes\n300 693 7161
URL:https://cencogan.com/evento/subasta-semanal-planeta-rica/2024-11-19/
LOCATION:Cencogan Planeta Rica\, Planeta Rica\, Colombia
CATEGORIES:General,Planeta Rica
ATTACH;FMTTYPE=image/jpeg:https://cencogan.com/wp-content/uploads/2023/04/banner1.jpg
END:VEVENT
BEGIN:VEVENT
DTSTART;TZID=America/New_York:20241112T130000
DTEND;TZID=America/New_York:20241112T130000
DTSTAMP:20260421T092012
CREATED:20230718T152804Z
LAST-MODIFIED:20240606T140250Z
UID:10001670-1731416400-1731416400@cencogan.com
SUMMARY:Subasta comercial
DESCRIPTION:Registrese y\nCompre \nVer el\nReglamento \nInformes\n300 693 7161
URL:https://cencogan.com/evento/subasta-semanal-planeta-rica/2024-11-12/
LOCATION:Cencogan Planeta Rica\, Planeta Rica\, Colombia
CATEGORIES:General,Planeta Rica
ATTACH;FMTTYPE=image/jpeg:https://cencogan.com/wp-content/uploads/2023/04/banner1.jpg
END:VEVENT
BEGIN:VEVENT
DTSTART;TZID=America/New_York:20241105T130000
DTEND;TZID=America/New_York:20241105T130000
DTSTAMP:20260421T092012
CREATED:20230718T152804Z
LAST-MODIFIED:20240606T140250Z
UID:10001669-1730811600-1730811600@cencogan.com
SUMMARY:Subasta comercial
DESCRIPTION:Registrese y\nCompre \nVer el\nReglamento \nInformes\n300 693 7161
URL:https://cencogan.com/evento/subasta-semanal-planeta-rica/2024-11-05/
LOCATION:Cencogan Planeta Rica\, Planeta Rica\, Colombia
CATEGORIES:General,Planeta Rica
ATTACH;FMTTYPE=image/jpeg:https://cencogan.com/wp-content/uploads/2023/04/banner1.jpg
END:VEVENT
BEGIN:VEVENT
DTSTART;TZID=America/New_York:20241029T130000
DTEND;TZID=America/New_York:20241029T130000
DTSTAMP:20260421T092012
CREATED:20230718T152804Z
LAST-MODIFIED:20240606T140250Z
UID:10001668-1730206800-1730206800@cencogan.com
SUMMARY:Subasta comercial
DESCRIPTION:Registrese y\nCompre \nVer el\nReglamento \nInformes\n300 693 7161
URL:https://cencogan.com/evento/subasta-semanal-planeta-rica/2024-10-29/
LOCATION:Cencogan Planeta Rica\, Planeta Rica\, Colombia
CATEGORIES:General,Planeta Rica
ATTACH;FMTTYPE=image/jpeg:https://cencogan.com/wp-content/uploads/2023/04/banner1.jpg
END:VEVENT
BEGIN:VEVENT
DTSTART;TZID=America/New_York:20241022T130000
DTEND;TZID=America/New_York:20241022T130000
DTSTAMP:20260421T092012
CREATED:20230718T152804Z
LAST-MODIFIED:20240606T140250Z
UID:10001667-1729602000-1729602000@cencogan.com
SUMMARY:Subasta comercial
DESCRIPTION:Registrese y\nCompre \nVer el\nReglamento \nInformes\n300 693 7161
URL:https://cencogan.com/evento/subasta-semanal-planeta-rica/2024-10-22/
LOCATION:Cencogan Planeta Rica\, Planeta Rica\, Colombia
CATEGORIES:General,Planeta Rica
ATTACH;FMTTYPE=image/jpeg:https://cencogan.com/wp-content/uploads/2023/04/banner1.jpg
END:VEVENT
BEGIN:VEVENT
DTSTART;TZID=America/New_York:20241015T130000
DTEND;TZID=America/New_York:20241015T130000
DTSTAMP:20260421T092012
CREATED:20230718T152804Z
LAST-MODIFIED:20240606T140250Z
UID:10001666-1728997200-1728997200@cencogan.com
SUMMARY:Subasta comercial
DESCRIPTION:Registrese y\nCompre \nVer el\nReglamento \nInformes\n300 693 7161
URL:https://cencogan.com/evento/subasta-semanal-planeta-rica/2024-10-15/
LOCATION:Cencogan Planeta Rica\, Planeta Rica\, Colombia
CATEGORIES:General,Planeta Rica
ATTACH;FMTTYPE=image/jpeg:https://cencogan.com/wp-content/uploads/2023/04/banner1.jpg
END:VEVENT
BEGIN:VEVENT
DTSTART;TZID=America/New_York:20241008T130000
DTEND;TZID=America/New_York:20241008T130000
DTSTAMP:20260421T092012
CREATED:20230718T152804Z
LAST-MODIFIED:20240606T140250Z
UID:10001665-1728392400-1728392400@cencogan.com
SUMMARY:Subasta comercial
DESCRIPTION:Registrese y\nCompre \nVer el\nReglamento \nInformes\n300 693 7161
URL:https://cencogan.com/evento/subasta-semanal-planeta-rica/2024-10-08/
LOCATION:Cencogan Planeta Rica\, Planeta Rica\, Colombia
CATEGORIES:General,Planeta Rica
ATTACH;FMTTYPE=image/jpeg:https://cencogan.com/wp-content/uploads/2023/04/banner1.jpg
END:VEVENT
BEGIN:VEVENT
DTSTART;TZID=America/New_York:20241001T130000
DTEND;TZID=America/New_York:20241001T130000
DTSTAMP:20260421T092012
CREATED:20230718T152804Z
LAST-MODIFIED:20240606T140250Z
UID:10001664-1727787600-1727787600@cencogan.com
SUMMARY:Subasta comercial
DESCRIPTION:Registrese y\nCompre \nVer el\nReglamento \nInformes\n300 693 7161
URL:https://cencogan.com/evento/subasta-semanal-planeta-rica/2024-10-01/
LOCATION:Cencogan Planeta Rica\, Planeta Rica\, Colombia
CATEGORIES:General,Planeta Rica
ATTACH;FMTTYPE=image/jpeg:https://cencogan.com/wp-content/uploads/2023/04/banner1.jpg
END:VEVENT
BEGIN:VEVENT
DTSTART;TZID=America/New_York:20240924T130000
DTEND;TZID=America/New_York:20240924T130000
DTSTAMP:20260421T092012
CREATED:20230718T152804Z
LAST-MODIFIED:20240606T140250Z
UID:10001663-1727182800-1727182800@cencogan.com
SUMMARY:Subasta comercial
DESCRIPTION:Registrese y\nCompre \nVer el\nReglamento \nInformes\n300 693 7161
URL:https://cencogan.com/evento/subasta-semanal-planeta-rica/2024-09-24/
LOCATION:Cencogan Planeta Rica\, Planeta Rica\, Colombia
CATEGORIES:General,Planeta Rica
ATTACH;FMTTYPE=image/jpeg:https://cencogan.com/wp-content/uploads/2023/04/banner1.jpg
END:VEVENT
BEGIN:VEVENT
DTSTART;TZID=America/New_York:20240917T130000
DTEND;TZID=America/New_York:20240917T130000
DTSTAMP:20260421T092012
CREATED:20230718T152804Z
LAST-MODIFIED:20240606T140250Z
UID:10001662-1726578000-1726578000@cencogan.com
SUMMARY:Subasta comercial
DESCRIPTION:Registrese y\nCompre \nVer el\nReglamento \nInformes\n300 693 7161
URL:https://cencogan.com/evento/subasta-semanal-planeta-rica/2024-09-17/
LOCATION:Cencogan Planeta Rica\, Planeta Rica\, Colombia
CATEGORIES:General,Planeta Rica
ATTACH;FMTTYPE=image/jpeg:https://cencogan.com/wp-content/uploads/2023/04/banner1.jpg
END:VEVENT
BEGIN:VEVENT
DTSTART;TZID=America/New_York:20240910T130000
DTEND;TZID=America/New_York:20240910T130000
DTSTAMP:20260421T092012
CREATED:20230718T152804Z
LAST-MODIFIED:20240606T140250Z
UID:10001661-1725973200-1725973200@cencogan.com
SUMMARY:Subasta comercial
DESCRIPTION:Registrese y\nCompre \nVer el\nReglamento \nInformes\n300 693 7161
URL:https://cencogan.com/evento/subasta-semanal-planeta-rica/2024-09-10/
LOCATION:Cencogan Planeta Rica\, Planeta Rica\, Colombia
CATEGORIES:General,Planeta Rica
ATTACH;FMTTYPE=image/jpeg:https://cencogan.com/wp-content/uploads/2023/04/banner1.jpg
END:VEVENT
BEGIN:VEVENT
DTSTART;TZID=America/New_York:20240903T130000
DTEND;TZID=America/New_York:20240903T130000
DTSTAMP:20260421T092012
CREATED:20230718T152804Z
LAST-MODIFIED:20240606T140250Z
UID:10001660-1725368400-1725368400@cencogan.com
SUMMARY:Subasta comercial
DESCRIPTION:Registrese y\nCompre \nVer el\nReglamento \nInformes\n300 693 7161
URL:https://cencogan.com/evento/subasta-semanal-planeta-rica/2024-09-03/
LOCATION:Cencogan Planeta Rica\, Planeta Rica\, Colombia
CATEGORIES:General,Planeta Rica
ATTACH;FMTTYPE=image/jpeg:https://cencogan.com/wp-content/uploads/2023/04/banner1.jpg
END:VEVENT
BEGIN:VEVENT
DTSTART;TZID=America/New_York:20240827T130000
DTEND;TZID=America/New_York:20240827T130000
DTSTAMP:20260421T092012
CREATED:20230718T152804Z
LAST-MODIFIED:20240606T140250Z
UID:10001659-1724763600-1724763600@cencogan.com
SUMMARY:Subasta comercial
DESCRIPTION:Registrese y\nCompre \nVer el\nReglamento \nInformes\n300 693 7161
URL:https://cencogan.com/evento/subasta-semanal-planeta-rica/2024-08-27/
LOCATION:Cencogan Planeta Rica\, Planeta Rica\, Colombia
CATEGORIES:General,Planeta Rica
ATTACH;FMTTYPE=image/jpeg:https://cencogan.com/wp-content/uploads/2023/04/banner1.jpg
END:VEVENT
END:VCALENDAR