BEGIN:VCALENDAR
VERSION:2.0
PRODID:-//Cencogan - ECPv6.4.0.1//NONSGML v1.0//EN
CALSCALE:GREGORIAN
METHOD:PUBLISH
X-ORIGINAL-URL:https://cencogan.com
X-WR-CALDESC:Eventos para Cencogan
REFRESH-INTERVAL;VALUE=DURATION:PT1H
X-Robots-Tag:noindex
X-PUBLISHED-TTL:PT1H
BEGIN:VTIMEZONE
TZID:America/New_York
BEGIN:DAYLIGHT
TZOFFSETFROM:-0500
TZOFFSETTO:-0400
TZNAME:EDT
DTSTART:20260308T070000
END:DAYLIGHT
BEGIN:STANDARD
TZOFFSETFROM:-0400
TZOFFSETTO:-0500
TZNAME:EST
DTSTART:20261101T060000
END:STANDARD
BEGIN:DAYLIGHT
TZOFFSETFROM:-0500
TZOFFSETTO:-0400
TZNAME:EDT
DTSTART:20270314T070000
END:DAYLIGHT
BEGIN:STANDARD
TZOFFSETFROM:-0400
TZOFFSETTO:-0500
TZNAME:EST
DTSTART:20271107T060000
END:STANDARD
END:VTIMEZONE
BEGIN:VEVENT
DTSTART;TZID=America/New_York:20261229T130000
DTEND;TZID=America/New_York:20261229T130000
DTSTAMP:20260421T061159
CREATED:20230718T152804Z
LAST-MODIFIED:20240606T140250Z
UID:10001781-1798549200-1798549200@cencogan.com
SUMMARY:Subasta comercial
DESCRIPTION:Registrese y\nCompre \nVer el\nReglamento \nInformes\n300 693 7161
URL:https://cencogan.com/evento/subasta-semanal-planeta-rica/2026-12-29/
LOCATION:Cencogan Planeta Rica\, Planeta Rica\, Colombia
CATEGORIES:General,Planeta Rica
ATTACH;FMTTYPE=image/jpeg:https://cencogan.com/wp-content/uploads/2023/04/banner1.jpg
END:VEVENT
BEGIN:VEVENT
DTSTART;TZID=America/New_York:20270105T130000
DTEND;TZID=America/New_York:20270105T130000
DTSTAMP:20260421T061159
CREATED:20230718T152804Z
LAST-MODIFIED:20240606T140250Z
UID:10001782-1799154000-1799154000@cencogan.com
SUMMARY:Subasta comercial
DESCRIPTION:Registrese y\nCompre \nVer el\nReglamento \nInformes\n300 693 7161
URL:https://cencogan.com/evento/subasta-semanal-planeta-rica/2027-01-05/
LOCATION:Cencogan Planeta Rica\, Planeta Rica\, Colombia
CATEGORIES:General,Planeta Rica
ATTACH;FMTTYPE=image/jpeg:https://cencogan.com/wp-content/uploads/2023/04/banner1.jpg
END:VEVENT
BEGIN:VEVENT
DTSTART;TZID=America/New_York:20270112T130000
DTEND;TZID=America/New_York:20270112T130000
DTSTAMP:20260421T061159
CREATED:20230718T152804Z
LAST-MODIFIED:20240606T140250Z
UID:10001783-1799758800-1799758800@cencogan.com
SUMMARY:Subasta comercial
DESCRIPTION:Registrese y\nCompre \nVer el\nReglamento \nInformes\n300 693 7161
URL:https://cencogan.com/evento/subasta-semanal-planeta-rica/2027-01-12/
LOCATION:Cencogan Planeta Rica\, Planeta Rica\, Colombia
CATEGORIES:General,Planeta Rica
ATTACH;FMTTYPE=image/jpeg:https://cencogan.com/wp-content/uploads/2023/04/banner1.jpg
END:VEVENT
BEGIN:VEVENT
DTSTART;TZID=America/New_York:20270119T130000
DTEND;TZID=America/New_York:20270119T130000
DTSTAMP:20260421T061159
CREATED:20230718T152804Z
LAST-MODIFIED:20240606T140250Z
UID:10001784-1800363600-1800363600@cencogan.com
SUMMARY:Subasta comercial
DESCRIPTION:Registrese y\nCompre \nVer el\nReglamento \nInformes\n300 693 7161
URL:https://cencogan.com/evento/subasta-semanal-planeta-rica/2027-01-19/
LOCATION:Cencogan Planeta Rica\, Planeta Rica\, Colombia
CATEGORIES:General,Planeta Rica
ATTACH;FMTTYPE=image/jpeg:https://cencogan.com/wp-content/uploads/2023/04/banner1.jpg
END:VEVENT
BEGIN:VEVENT
DTSTART;TZID=America/New_York:20270126T130000
DTEND;TZID=America/New_York:20270126T130000
DTSTAMP:20260421T061159
CREATED:20230718T152804Z
LAST-MODIFIED:20240606T140250Z
UID:10001785-1800968400-1800968400@cencogan.com
SUMMARY:Subasta comercial
DESCRIPTION:Registrese y\nCompre \nVer el\nReglamento \nInformes\n300 693 7161
URL:https://cencogan.com/evento/subasta-semanal-planeta-rica/2027-01-26/
LOCATION:Cencogan Planeta Rica\, Planeta Rica\, Colombia
CATEGORIES:General,Planeta Rica
ATTACH;FMTTYPE=image/jpeg:https://cencogan.com/wp-content/uploads/2023/04/banner1.jpg
END:VEVENT
BEGIN:VEVENT
DTSTART;TZID=America/New_York:20270202T130000
DTEND;TZID=America/New_York:20270202T130000
DTSTAMP:20260421T061159
CREATED:20230718T152804Z
LAST-MODIFIED:20240606T140250Z
UID:10001786-1801573200-1801573200@cencogan.com
SUMMARY:Subasta comercial
DESCRIPTION:Registrese y\nCompre \nVer el\nReglamento \nInformes\n300 693 7161
URL:https://cencogan.com/evento/subasta-semanal-planeta-rica/2027-02-02/
LOCATION:Cencogan Planeta Rica\, Planeta Rica\, Colombia
CATEGORIES:General,Planeta Rica
ATTACH;FMTTYPE=image/jpeg:https://cencogan.com/wp-content/uploads/2023/04/banner1.jpg
END:VEVENT
BEGIN:VEVENT
DTSTART;TZID=America/New_York:20270209T130000
DTEND;TZID=America/New_York:20270209T130000
DTSTAMP:20260421T061159
CREATED:20230718T152804Z
LAST-MODIFIED:20240606T140250Z
UID:10001787-1802178000-1802178000@cencogan.com
SUMMARY:Subasta comercial
DESCRIPTION:Registrese y\nCompre \nVer el\nReglamento \nInformes\n300 693 7161
URL:https://cencogan.com/evento/subasta-semanal-planeta-rica/2027-02-09/
LOCATION:Cencogan Planeta Rica\, Planeta Rica\, Colombia
CATEGORIES:General,Planeta Rica
ATTACH;FMTTYPE=image/jpeg:https://cencogan.com/wp-content/uploads/2023/04/banner1.jpg
END:VEVENT
BEGIN:VEVENT
DTSTART;TZID=America/New_York:20270216T130000
DTEND;TZID=America/New_York:20270216T130000
DTSTAMP:20260421T061159
CREATED:20230718T152804Z
LAST-MODIFIED:20240606T140250Z
UID:10001788-1802782800-1802782800@cencogan.com
SUMMARY:Subasta comercial
DESCRIPTION:Registrese y\nCompre \nVer el\nReglamento \nInformes\n300 693 7161
URL:https://cencogan.com/evento/subasta-semanal-planeta-rica/2027-02-16/
LOCATION:Cencogan Planeta Rica\, Planeta Rica\, Colombia
CATEGORIES:General,Planeta Rica
ATTACH;FMTTYPE=image/jpeg:https://cencogan.com/wp-content/uploads/2023/04/banner1.jpg
END:VEVENT
BEGIN:VEVENT
DTSTART;TZID=America/New_York:20270223T130000
DTEND;TZID=America/New_York:20270223T130000
DTSTAMP:20260421T061159
CREATED:20230718T152804Z
LAST-MODIFIED:20240606T140250Z
UID:10001789-1803387600-1803387600@cencogan.com
SUMMARY:Subasta comercial
DESCRIPTION:Registrese y\nCompre \nVer el\nReglamento \nInformes\n300 693 7161
URL:https://cencogan.com/evento/subasta-semanal-planeta-rica/2027-02-23/
LOCATION:Cencogan Planeta Rica\, Planeta Rica\, Colombia
CATEGORIES:General,Planeta Rica
ATTACH;FMTTYPE=image/jpeg:https://cencogan.com/wp-content/uploads/2023/04/banner1.jpg
END:VEVENT
BEGIN:VEVENT
DTSTART;TZID=America/New_York:20270302T130000
DTEND;TZID=America/New_York:20270302T130000
DTSTAMP:20260421T061159
CREATED:20230718T152804Z
LAST-MODIFIED:20240606T140250Z
UID:10001790-1803992400-1803992400@cencogan.com
SUMMARY:Subasta comercial
DESCRIPTION:Registrese y\nCompre \nVer el\nReglamento \nInformes\n300 693 7161
URL:https://cencogan.com/evento/subasta-semanal-planeta-rica/2027-03-02/
LOCATION:Cencogan Planeta Rica\, Planeta Rica\, Colombia
CATEGORIES:General,Planeta Rica
ATTACH;FMTTYPE=image/jpeg:https://cencogan.com/wp-content/uploads/2023/04/banner1.jpg
END:VEVENT
BEGIN:VEVENT
DTSTART;TZID=America/New_York:20270309T130000
DTEND;TZID=America/New_York:20270309T130000
DTSTAMP:20260421T061159
CREATED:20230718T152804Z
LAST-MODIFIED:20240606T140250Z
UID:10001791-1804597200-1804597200@cencogan.com
SUMMARY:Subasta comercial
DESCRIPTION:Registrese y\nCompre \nVer el\nReglamento \nInformes\n300 693 7161
URL:https://cencogan.com/evento/subasta-semanal-planeta-rica/2027-03-09/
LOCATION:Cencogan Planeta Rica\, Planeta Rica\, Colombia
CATEGORIES:General,Planeta Rica
ATTACH;FMTTYPE=image/jpeg:https://cencogan.com/wp-content/uploads/2023/04/banner1.jpg
END:VEVENT
BEGIN:VEVENT
DTSTART;TZID=America/New_York:20270316T130000
DTEND;TZID=America/New_York:20270316T130000
DTSTAMP:20260421T061159
CREATED:20230718T152804Z
LAST-MODIFIED:20240606T140250Z
UID:10001792-1805202000-1805202000@cencogan.com
SUMMARY:Subasta comercial
DESCRIPTION:Registrese y\nCompre \nVer el\nReglamento \nInformes\n300 693 7161
URL:https://cencogan.com/evento/subasta-semanal-planeta-rica/2027-03-16/
LOCATION:Cencogan Planeta Rica\, Planeta Rica\, Colombia
CATEGORIES:General,Planeta Rica
ATTACH;FMTTYPE=image/jpeg:https://cencogan.com/wp-content/uploads/2023/04/banner1.jpg
END:VEVENT
BEGIN:VEVENT
DTSTART;TZID=America/New_York:20270323T130000
DTEND;TZID=America/New_York:20270323T130000
DTSTAMP:20260421T061159
CREATED:20230718T152804Z
LAST-MODIFIED:20240606T140250Z
UID:10001793-1805806800-1805806800@cencogan.com
SUMMARY:Subasta comercial
DESCRIPTION:Registrese y\nCompre \nVer el\nReglamento \nInformes\n300 693 7161
URL:https://cencogan.com/evento/subasta-semanal-planeta-rica/2027-03-23/
LOCATION:Cencogan Planeta Rica\, Planeta Rica\, Colombia
CATEGORIES:General,Planeta Rica
ATTACH;FMTTYPE=image/jpeg:https://cencogan.com/wp-content/uploads/2023/04/banner1.jpg
END:VEVENT
BEGIN:VEVENT
DTSTART;TZID=America/New_York:20270330T130000
DTEND;TZID=America/New_York:20270330T130000
DTSTAMP:20260421T061159
CREATED:20230718T152804Z
LAST-MODIFIED:20240606T140250Z
UID:10001794-1806411600-1806411600@cencogan.com
SUMMARY:Subasta comercial
DESCRIPTION:Registrese y\nCompre \nVer el\nReglamento \nInformes\n300 693 7161
URL:https://cencogan.com/evento/subasta-semanal-planeta-rica/2027-03-30/
LOCATION:Cencogan Planeta Rica\, Planeta Rica\, Colombia
CATEGORIES:General,Planeta Rica
ATTACH;FMTTYPE=image/jpeg:https://cencogan.com/wp-content/uploads/2023/04/banner1.jpg
END:VEVENT
BEGIN:VEVENT
DTSTART;TZID=America/New_York:20270406T130000
DTEND;TZID=America/New_York:20270406T130000
DTSTAMP:20260421T061159
CREATED:20230718T152804Z
LAST-MODIFIED:20240606T140250Z
UID:10001795-1807016400-1807016400@cencogan.com
SUMMARY:Subasta comercial
DESCRIPTION:Registrese y\nCompre \nVer el\nReglamento \nInformes\n300 693 7161
URL:https://cencogan.com/evento/subasta-semanal-planeta-rica/2027-04-06/
LOCATION:Cencogan Planeta Rica\, Planeta Rica\, Colombia
CATEGORIES:General,Planeta Rica
ATTACH;FMTTYPE=image/jpeg:https://cencogan.com/wp-content/uploads/2023/04/banner1.jpg
END:VEVENT
BEGIN:VEVENT
DTSTART;TZID=America/New_York:20270413T130000
DTEND;TZID=America/New_York:20270413T130000
DTSTAMP:20260421T061159
CREATED:20230718T152804Z
LAST-MODIFIED:20240606T140250Z
UID:10001796-1807621200-1807621200@cencogan.com
SUMMARY:Subasta comercial
DESCRIPTION:Registrese y\nCompre \nVer el\nReglamento \nInformes\n300 693 7161
URL:https://cencogan.com/evento/subasta-semanal-planeta-rica/2027-04-13/
LOCATION:Cencogan Planeta Rica\, Planeta Rica\, Colombia
CATEGORIES:General,Planeta Rica
ATTACH;FMTTYPE=image/jpeg:https://cencogan.com/wp-content/uploads/2023/04/banner1.jpg
END:VEVENT
BEGIN:VEVENT
DTSTART;TZID=America/New_York:20270420T130000
DTEND;TZID=America/New_York:20270420T130000
DTSTAMP:20260421T061159
CREATED:20230718T152804Z
LAST-MODIFIED:20240606T140250Z
UID:10001797-1808226000-1808226000@cencogan.com
SUMMARY:Subasta comercial
DESCRIPTION:Registrese y\nCompre \nVer el\nReglamento \nInformes\n300 693 7161
URL:https://cencogan.com/evento/subasta-semanal-planeta-rica/2027-04-20/
LOCATION:Cencogan Planeta Rica\, Planeta Rica\, Colombia
CATEGORIES:General,Planeta Rica
ATTACH;FMTTYPE=image/jpeg:https://cencogan.com/wp-content/uploads/2023/04/banner1.jpg
END:VEVENT
BEGIN:VEVENT
DTSTART;TZID=America/New_York:20270427T130000
DTEND;TZID=America/New_York:20270427T130000
DTSTAMP:20260421T061159
CREATED:20230718T152804Z
LAST-MODIFIED:20240606T140250Z
UID:10001798-1808830800-1808830800@cencogan.com
SUMMARY:Subasta comercial
DESCRIPTION:Registrese y\nCompre \nVer el\nReglamento \nInformes\n300 693 7161
URL:https://cencogan.com/evento/subasta-semanal-planeta-rica/2027-04-27/
LOCATION:Cencogan Planeta Rica\, Planeta Rica\, Colombia
CATEGORIES:General,Planeta Rica
ATTACH;FMTTYPE=image/jpeg:https://cencogan.com/wp-content/uploads/2023/04/banner1.jpg
END:VEVENT
BEGIN:VEVENT
DTSTART;TZID=America/New_York:20270504T130000
DTEND;TZID=America/New_York:20270504T130000
DTSTAMP:20260421T061159
CREATED:20230718T152804Z
LAST-MODIFIED:20240606T140250Z
UID:10001799-1809435600-1809435600@cencogan.com
SUMMARY:Subasta comercial
DESCRIPTION:Registrese y\nCompre \nVer el\nReglamento \nInformes\n300 693 7161
URL:https://cencogan.com/evento/subasta-semanal-planeta-rica/2027-05-04/
LOCATION:Cencogan Planeta Rica\, Planeta Rica\, Colombia
CATEGORIES:General,Planeta Rica
ATTACH;FMTTYPE=image/jpeg:https://cencogan.com/wp-content/uploads/2023/04/banner1.jpg
END:VEVENT
BEGIN:VEVENT
DTSTART;TZID=America/New_York:20270511T130000
DTEND;TZID=America/New_York:20270511T130000
DTSTAMP:20260421T061159
CREATED:20230718T152804Z
LAST-MODIFIED:20240606T140250Z
UID:10001800-1810040400-1810040400@cencogan.com
SUMMARY:Subasta comercial
DESCRIPTION:Registrese y\nCompre \nVer el\nReglamento \nInformes\n300 693 7161
URL:https://cencogan.com/evento/subasta-semanal-planeta-rica/2027-05-11/
LOCATION:Cencogan Planeta Rica\, Planeta Rica\, Colombia
CATEGORIES:General,Planeta Rica
ATTACH;FMTTYPE=image/jpeg:https://cencogan.com/wp-content/uploads/2023/04/banner1.jpg
END:VEVENT
BEGIN:VEVENT
DTSTART;TZID=America/New_York:20270518T130000
DTEND;TZID=America/New_York:20270518T130000
DTSTAMP:20260421T061159
CREATED:20230718T152804Z
LAST-MODIFIED:20240606T140250Z
UID:10001801-1810645200-1810645200@cencogan.com
SUMMARY:Subasta comercial
DESCRIPTION:Registrese y\nCompre \nVer el\nReglamento \nInformes\n300 693 7161
URL:https://cencogan.com/evento/subasta-semanal-planeta-rica/2027-05-18/
LOCATION:Cencogan Planeta Rica\, Planeta Rica\, Colombia
CATEGORIES:General,Planeta Rica
ATTACH;FMTTYPE=image/jpeg:https://cencogan.com/wp-content/uploads/2023/04/banner1.jpg
END:VEVENT
BEGIN:VEVENT
DTSTART;TZID=America/New_York:20270525T130000
DTEND;TZID=America/New_York:20270525T130000
DTSTAMP:20260421T061159
CREATED:20230718T152804Z
LAST-MODIFIED:20240606T140250Z
UID:10001802-1811250000-1811250000@cencogan.com
SUMMARY:Subasta comercial
DESCRIPTION:Registrese y\nCompre \nVer el\nReglamento \nInformes\n300 693 7161
URL:https://cencogan.com/evento/subasta-semanal-planeta-rica/2027-05-25/
LOCATION:Cencogan Planeta Rica\, Planeta Rica\, Colombia
CATEGORIES:General,Planeta Rica
ATTACH;FMTTYPE=image/jpeg:https://cencogan.com/wp-content/uploads/2023/04/banner1.jpg
END:VEVENT
BEGIN:VEVENT
DTSTART;TZID=America/New_York:20270601T130000
DTEND;TZID=America/New_York:20270601T130000
DTSTAMP:20260421T061159
CREATED:20230718T152804Z
LAST-MODIFIED:20240606T140250Z
UID:10001803-1811854800-1811854800@cencogan.com
SUMMARY:Subasta comercial
DESCRIPTION:Registrese y\nCompre \nVer el\nReglamento \nInformes\n300 693 7161
URL:https://cencogan.com/evento/subasta-semanal-planeta-rica/2027-06-01/
LOCATION:Cencogan Planeta Rica\, Planeta Rica\, Colombia
CATEGORIES:General,Planeta Rica
ATTACH;FMTTYPE=image/jpeg:https://cencogan.com/wp-content/uploads/2023/04/banner1.jpg
END:VEVENT
BEGIN:VEVENT
DTSTART;TZID=America/New_York:20270608T130000
DTEND;TZID=America/New_York:20270608T130000
DTSTAMP:20260421T061159
CREATED:20230718T152804Z
LAST-MODIFIED:20240606T140250Z
UID:10001804-1812459600-1812459600@cencogan.com
SUMMARY:Subasta comercial
DESCRIPTION:Registrese y\nCompre \nVer el\nReglamento \nInformes\n300 693 7161
URL:https://cencogan.com/evento/subasta-semanal-planeta-rica/2027-06-08/
LOCATION:Cencogan Planeta Rica\, Planeta Rica\, Colombia
CATEGORIES:General,Planeta Rica
ATTACH;FMTTYPE=image/jpeg:https://cencogan.com/wp-content/uploads/2023/04/banner1.jpg
END:VEVENT
BEGIN:VEVENT
DTSTART;TZID=America/New_York:20270615T130000
DTEND;TZID=America/New_York:20270615T130000
DTSTAMP:20260421T061159
CREATED:20230718T152804Z
LAST-MODIFIED:20240606T140250Z
UID:10001805-1813064400-1813064400@cencogan.com
SUMMARY:Subasta comercial
DESCRIPTION:Registrese y\nCompre \nVer el\nReglamento \nInformes\n300 693 7161
URL:https://cencogan.com/evento/subasta-semanal-planeta-rica/2027-06-15/
LOCATION:Cencogan Planeta Rica\, Planeta Rica\, Colombia
CATEGORIES:General,Planeta Rica
ATTACH;FMTTYPE=image/jpeg:https://cencogan.com/wp-content/uploads/2023/04/banner1.jpg
END:VEVENT
BEGIN:VEVENT
DTSTART;TZID=America/New_York:20270622T130000
DTEND;TZID=America/New_York:20270622T130000
DTSTAMP:20260421T061159
CREATED:20230718T152804Z
LAST-MODIFIED:20240606T140250Z
UID:10001806-1813669200-1813669200@cencogan.com
SUMMARY:Subasta comercial
DESCRIPTION:Registrese y\nCompre \nVer el\nReglamento \nInformes\n300 693 7161
URL:https://cencogan.com/evento/subasta-semanal-planeta-rica/2027-06-22/
LOCATION:Cencogan Planeta Rica\, Planeta Rica\, Colombia
CATEGORIES:General,Planeta Rica
ATTACH;FMTTYPE=image/jpeg:https://cencogan.com/wp-content/uploads/2023/04/banner1.jpg
END:VEVENT
BEGIN:VEVENT
DTSTART;TZID=America/New_York:20270629T130000
DTEND;TZID=America/New_York:20270629T130000
DTSTAMP:20260421T061159
CREATED:20230718T152804Z
LAST-MODIFIED:20240606T140250Z
UID:10001807-1814274000-1814274000@cencogan.com
SUMMARY:Subasta comercial
DESCRIPTION:Registrese y\nCompre \nVer el\nReglamento \nInformes\n300 693 7161
URL:https://cencogan.com/evento/subasta-semanal-planeta-rica/2027-06-29/
LOCATION:Cencogan Planeta Rica\, Planeta Rica\, Colombia
CATEGORIES:General,Planeta Rica
ATTACH;FMTTYPE=image/jpeg:https://cencogan.com/wp-content/uploads/2023/04/banner1.jpg
END:VEVENT
BEGIN:VEVENT
DTSTART;TZID=America/New_York:20270706T130000
DTEND;TZID=America/New_York:20270706T130000
DTSTAMP:20260421T061159
CREATED:20230718T152804Z
LAST-MODIFIED:20240606T140250Z
UID:10001808-1814878800-1814878800@cencogan.com
SUMMARY:Subasta comercial
DESCRIPTION:Registrese y\nCompre \nVer el\nReglamento \nInformes\n300 693 7161
URL:https://cencogan.com/evento/subasta-semanal-planeta-rica/2027-07-06/
LOCATION:Cencogan Planeta Rica\, Planeta Rica\, Colombia
CATEGORIES:General,Planeta Rica
ATTACH;FMTTYPE=image/jpeg:https://cencogan.com/wp-content/uploads/2023/04/banner1.jpg
END:VEVENT
BEGIN:VEVENT
DTSTART;TZID=America/New_York:20270713T130000
DTEND;TZID=America/New_York:20270713T130000
DTSTAMP:20260421T061159
CREATED:20230718T152804Z
LAST-MODIFIED:20240606T140250Z
UID:10001809-1815483600-1815483600@cencogan.com
SUMMARY:Subasta comercial
DESCRIPTION:Registrese y\nCompre \nVer el\nReglamento \nInformes\n300 693 7161
URL:https://cencogan.com/evento/subasta-semanal-planeta-rica/2027-07-13/
LOCATION:Cencogan Planeta Rica\, Planeta Rica\, Colombia
CATEGORIES:General,Planeta Rica
ATTACH;FMTTYPE=image/jpeg:https://cencogan.com/wp-content/uploads/2023/04/banner1.jpg
END:VEVENT
BEGIN:VEVENT
DTSTART;TZID=America/New_York:20270720T130000
DTEND;TZID=America/New_York:20270720T130000
DTSTAMP:20260421T061159
CREATED:20230718T152804Z
LAST-MODIFIED:20240606T140250Z
UID:10001810-1816088400-1816088400@cencogan.com
SUMMARY:Subasta comercial
DESCRIPTION:Registrese y\nCompre \nVer el\nReglamento \nInformes\n300 693 7161
URL:https://cencogan.com/evento/subasta-semanal-planeta-rica/2027-07-20/
LOCATION:Cencogan Planeta Rica\, Planeta Rica\, Colombia
CATEGORIES:General,Planeta Rica
ATTACH;FMTTYPE=image/jpeg:https://cencogan.com/wp-content/uploads/2023/04/banner1.jpg
END:VEVENT
END:VCALENDAR