BEGIN:VCALENDAR
VERSION:2.0
PRODID:-//Cencogan - ECPv6.4.0.1//NONSGML v1.0//EN
CALSCALE:GREGORIAN
METHOD:PUBLISH
X-WR-CALNAME:Cencogan
X-ORIGINAL-URL:https://cencogan.com
X-WR-CALDESC:Eventos para Cencogan
REFRESH-INTERVAL;VALUE=DURATION:PT1H
X-Robots-Tag:noindex
X-PUBLISHED-TTL:PT1H
BEGIN:VTIMEZONE
TZID:America/New_York
BEGIN:DAYLIGHT
TZOFFSETFROM:-0500
TZOFFSETTO:-0400
TZNAME:EDT
DTSTART:20250309T070000
END:DAYLIGHT
BEGIN:STANDARD
TZOFFSETFROM:-0400
TZOFFSETTO:-0500
TZNAME:EST
DTSTART:20251102T060000
END:STANDARD
END:VTIMEZONE
BEGIN:VEVENT
DTSTART;TZID=America/New_York:20250830T150000
DTEND;TZID=America/New_York:20250830T150000
DTSTAMP:20260421T061154
CREATED:20240903T123818Z
LAST-MODIFIED:20250814T215719Z
UID:10002257-1756566000-1756566000@cencogan.com
SUMMARY:Territorio Doble Propósito 2025-2
DESCRIPTION:Registrese y\nCompre \nVer el\nReglamento \nInformes\n300 693 7161 \nVer Catálogo \nLotes del evento pasado\n\n    \n        \n            \n                           \n            \n            \n                    \n                    LOTE 1  \n                                  \n                    \n                            \n        \n        \n                            \n                    \n    \n        Now Playing        \n    \n    \n         \n            LOTE 1\n         \n                               \n                \n                            \n                    \n    \n        Now Playing        \n    \n    \n         \n            LOTE 2\n         \n                               \n                \n                            \n                    \n    \n        Now Playing        \n    \n    \n         \n            LOTE 3\n         \n                               \n                \n                            \n                    \n    \n        Now Playing        \n    \n    \n         \n            LOTE 4\n         \n                               \n                \n                            \n                    \n    \n        Now Playing        \n    \n    \n         \n            LOTE 5\n         \n                               \n                \n                    \n        \n            \n            Anterior\n        \n        \n            1\n            de            10\n        \n        \n            Siguiente
URL:https://cencogan.com/evento/territorio-doble-proposito/
LOCATION:Cencogan Planeta Rica\, Planeta Rica\, Colombia
CATEGORIES:Especiales,General,Planeta Rica
ATTACH;FMTTYPE=image/jpeg:https://cencogan.com/wp-content/uploads/2025/08/Territorio-doble-proposito-2-2025.jpg
END:VEVENT
BEGIN:VEVENT
DTSTART;TZID=America/New_York:20250826T130000
DTEND;TZID=America/New_York:20250826T130000
DTSTAMP:20260421T061154
CREATED:20230718T152804Z
LAST-MODIFIED:20240606T140250Z
UID:10001711-1756213200-1756213200@cencogan.com
SUMMARY:Subasta comercial
DESCRIPTION:Registrese y\nCompre \nVer el\nReglamento \nInformes\n300 693 7161
URL:https://cencogan.com/evento/subasta-semanal-planeta-rica/2025-08-26/
LOCATION:Cencogan Planeta Rica\, Planeta Rica\, Colombia
CATEGORIES:General,Planeta Rica
ATTACH;FMTTYPE=image/jpeg:https://cencogan.com/wp-content/uploads/2023/04/banner1.jpg
END:VEVENT
BEGIN:VEVENT
DTSTART;TZID=America/New_York:20250819T130000
DTEND;TZID=America/New_York:20250819T130000
DTSTAMP:20260421T061154
CREATED:20230718T152804Z
LAST-MODIFIED:20240606T140250Z
UID:10001710-1755608400-1755608400@cencogan.com
SUMMARY:Subasta comercial
DESCRIPTION:Registrese y\nCompre \nVer el\nReglamento \nInformes\n300 693 7161
URL:https://cencogan.com/evento/subasta-semanal-planeta-rica/2025-08-19/
LOCATION:Cencogan Planeta Rica\, Planeta Rica\, Colombia
CATEGORIES:General,Planeta Rica
ATTACH;FMTTYPE=image/jpeg:https://cencogan.com/wp-content/uploads/2023/04/banner1.jpg
END:VEVENT
BEGIN:VEVENT
DTSTART;TZID=America/New_York:20250812T130000
DTEND;TZID=America/New_York:20250812T130000
DTSTAMP:20260421T061154
CREATED:20230718T152804Z
LAST-MODIFIED:20240606T140250Z
UID:10001709-1755003600-1755003600@cencogan.com
SUMMARY:Subasta comercial
DESCRIPTION:Registrese y\nCompre \nVer el\nReglamento \nInformes\n300 693 7161
URL:https://cencogan.com/evento/subasta-semanal-planeta-rica/2025-08-12/
LOCATION:Cencogan Planeta Rica\, Planeta Rica\, Colombia
CATEGORIES:General,Planeta Rica
ATTACH;FMTTYPE=image/jpeg:https://cencogan.com/wp-content/uploads/2023/04/banner1.jpg
END:VEVENT
BEGIN:VEVENT
DTSTART;TZID=America/New_York:20250805T130000
DTEND;TZID=America/New_York:20250805T130000
DTSTAMP:20260421T061154
CREATED:20230718T152804Z
LAST-MODIFIED:20240606T140250Z
UID:10001708-1754398800-1754398800@cencogan.com
SUMMARY:Subasta comercial
DESCRIPTION:Registrese y\nCompre \nVer el\nReglamento \nInformes\n300 693 7161
URL:https://cencogan.com/evento/subasta-semanal-planeta-rica/2025-08-05/
LOCATION:Cencogan Planeta Rica\, Planeta Rica\, Colombia
CATEGORIES:General,Planeta Rica
ATTACH;FMTTYPE=image/jpeg:https://cencogan.com/wp-content/uploads/2023/04/banner1.jpg
END:VEVENT
BEGIN:VEVENT
DTSTART;TZID=America/New_York:20250729T130000
DTEND;TZID=America/New_York:20250729T130000
DTSTAMP:20260421T061154
CREATED:20230718T152804Z
LAST-MODIFIED:20240606T140250Z
UID:10001707-1753794000-1753794000@cencogan.com
SUMMARY:Subasta comercial
DESCRIPTION:Registrese y\nCompre \nVer el\nReglamento \nInformes\n300 693 7161
URL:https://cencogan.com/evento/subasta-semanal-planeta-rica/2025-07-29/
LOCATION:Cencogan Planeta Rica\, Planeta Rica\, Colombia
CATEGORIES:General,Planeta Rica
ATTACH;FMTTYPE=image/jpeg:https://cencogan.com/wp-content/uploads/2023/04/banner1.jpg
END:VEVENT
BEGIN:VEVENT
DTSTART;TZID=America/New_York:20250722T130000
DTEND;TZID=America/New_York:20250722T130000
DTSTAMP:20260421T061154
CREATED:20230718T152804Z
LAST-MODIFIED:20240606T140250Z
UID:10001706-1753189200-1753189200@cencogan.com
SUMMARY:Subasta comercial
DESCRIPTION:Registrese y\nCompre \nVer el\nReglamento \nInformes\n300 693 7161
URL:https://cencogan.com/evento/subasta-semanal-planeta-rica/2025-07-22/
LOCATION:Cencogan Planeta Rica\, Planeta Rica\, Colombia
CATEGORIES:General,Planeta Rica
ATTACH;FMTTYPE=image/jpeg:https://cencogan.com/wp-content/uploads/2023/04/banner1.jpg
END:VEVENT
BEGIN:VEVENT
DTSTART;TZID=America/New_York:20250715T130000
DTEND;TZID=America/New_York:20250715T130000
DTSTAMP:20260421T061154
CREATED:20230718T152804Z
LAST-MODIFIED:20240606T140250Z
UID:10001705-1752584400-1752584400@cencogan.com
SUMMARY:Subasta comercial
DESCRIPTION:Registrese y\nCompre \nVer el\nReglamento \nInformes\n300 693 7161
URL:https://cencogan.com/evento/subasta-semanal-planeta-rica/2025-07-15/
LOCATION:Cencogan Planeta Rica\, Planeta Rica\, Colombia
CATEGORIES:General,Planeta Rica
ATTACH;FMTTYPE=image/jpeg:https://cencogan.com/wp-content/uploads/2023/04/banner1.jpg
END:VEVENT
BEGIN:VEVENT
DTSTART;TZID=America/New_York:20250708T130000
DTEND;TZID=America/New_York:20250708T130000
DTSTAMP:20260421T061154
CREATED:20230718T152804Z
LAST-MODIFIED:20240606T140250Z
UID:10001704-1751979600-1751979600@cencogan.com
SUMMARY:Subasta comercial
DESCRIPTION:Registrese y\nCompre \nVer el\nReglamento \nInformes\n300 693 7161
URL:https://cencogan.com/evento/subasta-semanal-planeta-rica/2025-07-08/
LOCATION:Cencogan Planeta Rica\, Planeta Rica\, Colombia
CATEGORIES:General,Planeta Rica
ATTACH;FMTTYPE=image/jpeg:https://cencogan.com/wp-content/uploads/2023/04/banner1.jpg
END:VEVENT
BEGIN:VEVENT
DTSTART;TZID=America/New_York:20250701T130000
DTEND;TZID=America/New_York:20250701T130000
DTSTAMP:20260421T061154
CREATED:20230718T152804Z
LAST-MODIFIED:20240606T140250Z
UID:10001703-1751374800-1751374800@cencogan.com
SUMMARY:Subasta comercial
DESCRIPTION:Registrese y\nCompre \nVer el\nReglamento \nInformes\n300 693 7161
URL:https://cencogan.com/evento/subasta-semanal-planeta-rica/2025-07-01/
LOCATION:Cencogan Planeta Rica\, Planeta Rica\, Colombia
CATEGORIES:General,Planeta Rica
ATTACH;FMTTYPE=image/jpeg:https://cencogan.com/wp-content/uploads/2023/04/banner1.jpg
END:VEVENT
BEGIN:VEVENT
DTSTART;TZID=America/New_York:20250624T130000
DTEND;TZID=America/New_York:20250624T130000
DTSTAMP:20260421T061154
CREATED:20230718T152804Z
LAST-MODIFIED:20240606T140250Z
UID:10001702-1750770000-1750770000@cencogan.com
SUMMARY:Subasta comercial
DESCRIPTION:Registrese y\nCompre \nVer el\nReglamento \nInformes\n300 693 7161
URL:https://cencogan.com/evento/subasta-semanal-planeta-rica/2025-06-24/
LOCATION:Cencogan Planeta Rica\, Planeta Rica\, Colombia
CATEGORIES:General,Planeta Rica
ATTACH;FMTTYPE=image/jpeg:https://cencogan.com/wp-content/uploads/2023/04/banner1.jpg
END:VEVENT
BEGIN:VEVENT
DTSTART;TZID=America/New_York:20250617T130000
DTEND;TZID=America/New_York:20250617T130000
DTSTAMP:20260421T061154
CREATED:20230718T152804Z
LAST-MODIFIED:20240606T140250Z
UID:10001701-1750165200-1750165200@cencogan.com
SUMMARY:Subasta comercial
DESCRIPTION:Registrese y\nCompre \nVer el\nReglamento \nInformes\n300 693 7161
URL:https://cencogan.com/evento/subasta-semanal-planeta-rica/2025-06-17/
LOCATION:Cencogan Planeta Rica\, Planeta Rica\, Colombia
CATEGORIES:General,Planeta Rica
ATTACH;FMTTYPE=image/jpeg:https://cencogan.com/wp-content/uploads/2023/04/banner1.jpg
END:VEVENT
BEGIN:VEVENT
DTSTART;TZID=America/New_York:20250610T130000
DTEND;TZID=America/New_York:20250610T130000
DTSTAMP:20260421T061154
CREATED:20230718T152804Z
LAST-MODIFIED:20240606T140250Z
UID:10001700-1749560400-1749560400@cencogan.com
SUMMARY:Subasta comercial
DESCRIPTION:Registrese y\nCompre \nVer el\nReglamento \nInformes\n300 693 7161
URL:https://cencogan.com/evento/subasta-semanal-planeta-rica/2025-06-10/
LOCATION:Cencogan Planeta Rica\, Planeta Rica\, Colombia
CATEGORIES:General,Planeta Rica
ATTACH;FMTTYPE=image/jpeg:https://cencogan.com/wp-content/uploads/2023/04/banner1.jpg
END:VEVENT
BEGIN:VEVENT
DTSTART;TZID=America/New_York:20250603T130000
DTEND;TZID=America/New_York:20250603T130000
DTSTAMP:20260421T061154
CREATED:20230718T152804Z
LAST-MODIFIED:20240606T140250Z
UID:10001699-1748955600-1748955600@cencogan.com
SUMMARY:Subasta comercial
DESCRIPTION:Registrese y\nCompre \nVer el\nReglamento \nInformes\n300 693 7161
URL:https://cencogan.com/evento/subasta-semanal-planeta-rica/2025-06-03/
LOCATION:Cencogan Planeta Rica\, Planeta Rica\, Colombia
CATEGORIES:General,Planeta Rica
ATTACH;FMTTYPE=image/jpeg:https://cencogan.com/wp-content/uploads/2023/04/banner1.jpg
END:VEVENT
BEGIN:VEVENT
DTSTART;TZID=America/New_York:20250527T130000
DTEND;TZID=America/New_York:20250527T130000
DTSTAMP:20260421T061154
CREATED:20230718T152804Z
LAST-MODIFIED:20240606T140250Z
UID:10001698-1748350800-1748350800@cencogan.com
SUMMARY:Subasta comercial
DESCRIPTION:Registrese y\nCompre \nVer el\nReglamento \nInformes\n300 693 7161
URL:https://cencogan.com/evento/subasta-semanal-planeta-rica/2025-05-27/
LOCATION:Cencogan Planeta Rica\, Planeta Rica\, Colombia
CATEGORIES:General,Planeta Rica
ATTACH;FMTTYPE=image/jpeg:https://cencogan.com/wp-content/uploads/2023/04/banner1.jpg
END:VEVENT
BEGIN:VEVENT
DTSTART;TZID=America/New_York:20250520T130000
DTEND;TZID=America/New_York:20250520T130000
DTSTAMP:20260421T061154
CREATED:20230718T152804Z
LAST-MODIFIED:20240606T140250Z
UID:10001697-1747746000-1747746000@cencogan.com
SUMMARY:Subasta comercial
DESCRIPTION:Registrese y\nCompre \nVer el\nReglamento \nInformes\n300 693 7161
URL:https://cencogan.com/evento/subasta-semanal-planeta-rica/2025-05-20/
LOCATION:Cencogan Planeta Rica\, Planeta Rica\, Colombia
CATEGORIES:General,Planeta Rica
ATTACH;FMTTYPE=image/jpeg:https://cencogan.com/wp-content/uploads/2023/04/banner1.jpg
END:VEVENT
BEGIN:VEVENT
DTSTART;TZID=America/New_York:20250513T130000
DTEND;TZID=America/New_York:20250513T130000
DTSTAMP:20260421T061154
CREATED:20230718T152804Z
LAST-MODIFIED:20240606T140250Z
UID:10001696-1747141200-1747141200@cencogan.com
SUMMARY:Subasta comercial
DESCRIPTION:Registrese y\nCompre \nVer el\nReglamento \nInformes\n300 693 7161
URL:https://cencogan.com/evento/subasta-semanal-planeta-rica/2025-05-13/
LOCATION:Cencogan Planeta Rica\, Planeta Rica\, Colombia
CATEGORIES:General,Planeta Rica
ATTACH;FMTTYPE=image/jpeg:https://cencogan.com/wp-content/uploads/2023/04/banner1.jpg
END:VEVENT
BEGIN:VEVENT
DTSTART;TZID=America/New_York:20250506T130000
DTEND;TZID=America/New_York:20250506T130000
DTSTAMP:20260421T061154
CREATED:20230718T152804Z
LAST-MODIFIED:20240606T140250Z
UID:10001695-1746536400-1746536400@cencogan.com
SUMMARY:Subasta comercial
DESCRIPTION:Registrese y\nCompre \nVer el\nReglamento \nInformes\n300 693 7161
URL:https://cencogan.com/evento/subasta-semanal-planeta-rica/2025-05-06/
LOCATION:Cencogan Planeta Rica\, Planeta Rica\, Colombia
CATEGORIES:General,Planeta Rica
ATTACH;FMTTYPE=image/jpeg:https://cencogan.com/wp-content/uploads/2023/04/banner1.jpg
END:VEVENT
BEGIN:VEVENT
DTSTART;TZID=America/New_York:20250429T130000
DTEND;TZID=America/New_York:20250429T130000
DTSTAMP:20260421T061154
CREATED:20230718T152804Z
LAST-MODIFIED:20240606T140250Z
UID:10001694-1745931600-1745931600@cencogan.com
SUMMARY:Subasta comercial
DESCRIPTION:Registrese y\nCompre \nVer el\nReglamento \nInformes\n300 693 7161
URL:https://cencogan.com/evento/subasta-semanal-planeta-rica/2025-04-29/
LOCATION:Cencogan Planeta Rica\, Planeta Rica\, Colombia
CATEGORIES:General,Planeta Rica
ATTACH;FMTTYPE=image/jpeg:https://cencogan.com/wp-content/uploads/2023/04/banner1.jpg
END:VEVENT
BEGIN:VEVENT
DTSTART;TZID=America/New_York:20250422T130000
DTEND;TZID=America/New_York:20250422T130000
DTSTAMP:20260421T061154
CREATED:20230718T152804Z
LAST-MODIFIED:20240606T140250Z
UID:10001693-1745326800-1745326800@cencogan.com
SUMMARY:Subasta comercial
DESCRIPTION:Registrese y\nCompre \nVer el\nReglamento \nInformes\n300 693 7161
URL:https://cencogan.com/evento/subasta-semanal-planeta-rica/2025-04-22/
LOCATION:Cencogan Planeta Rica\, Planeta Rica\, Colombia
CATEGORIES:General,Planeta Rica
ATTACH;FMTTYPE=image/jpeg:https://cencogan.com/wp-content/uploads/2023/04/banner1.jpg
END:VEVENT
BEGIN:VEVENT
DTSTART;TZID=America/New_York:20250415T130000
DTEND;TZID=America/New_York:20250415T130000
DTSTAMP:20260421T061154
CREATED:20230718T152804Z
LAST-MODIFIED:20240606T140250Z
UID:10001692-1744722000-1744722000@cencogan.com
SUMMARY:Subasta comercial
DESCRIPTION:Registrese y\nCompre \nVer el\nReglamento \nInformes\n300 693 7161
URL:https://cencogan.com/evento/subasta-semanal-planeta-rica/2025-04-15/
LOCATION:Cencogan Planeta Rica\, Planeta Rica\, Colombia
CATEGORIES:General,Planeta Rica
ATTACH;FMTTYPE=image/jpeg:https://cencogan.com/wp-content/uploads/2023/04/banner1.jpg
END:VEVENT
BEGIN:VEVENT
DTSTART;TZID=America/New_York:20250408T130000
DTEND;TZID=America/New_York:20250408T130000
DTSTAMP:20260421T061154
CREATED:20230718T152804Z
LAST-MODIFIED:20240606T140250Z
UID:10001691-1744117200-1744117200@cencogan.com
SUMMARY:Subasta comercial
DESCRIPTION:Registrese y\nCompre \nVer el\nReglamento \nInformes\n300 693 7161
URL:https://cencogan.com/evento/subasta-semanal-planeta-rica/2025-04-08/
LOCATION:Cencogan Planeta Rica\, Planeta Rica\, Colombia
CATEGORIES:General,Planeta Rica
ATTACH;FMTTYPE=image/jpeg:https://cencogan.com/wp-content/uploads/2023/04/banner1.jpg
END:VEVENT
BEGIN:VEVENT
DTSTART;TZID=America/New_York:20250401T130000
DTEND;TZID=America/New_York:20250401T130000
DTSTAMP:20260421T061155
CREATED:20230718T152804Z
LAST-MODIFIED:20240606T140250Z
UID:10001690-1743512400-1743512400@cencogan.com
SUMMARY:Subasta comercial
DESCRIPTION:Registrese y\nCompre \nVer el\nReglamento \nInformes\n300 693 7161
URL:https://cencogan.com/evento/subasta-semanal-planeta-rica/2025-04-01/
LOCATION:Cencogan Planeta Rica\, Planeta Rica\, Colombia
CATEGORIES:General,Planeta Rica
ATTACH;FMTTYPE=image/jpeg:https://cencogan.com/wp-content/uploads/2023/04/banner1.jpg
END:VEVENT
BEGIN:VEVENT
DTSTART;TZID=America/New_York:20250325T130000
DTEND;TZID=America/New_York:20250325T130000
DTSTAMP:20260421T061155
CREATED:20230718T152804Z
LAST-MODIFIED:20240606T140250Z
UID:10001689-1742907600-1742907600@cencogan.com
SUMMARY:Subasta comercial
DESCRIPTION:Registrese y\nCompre \nVer el\nReglamento \nInformes\n300 693 7161
URL:https://cencogan.com/evento/subasta-semanal-planeta-rica/2025-03-25/
LOCATION:Cencogan Planeta Rica\, Planeta Rica\, Colombia
CATEGORIES:General,Planeta Rica
ATTACH;FMTTYPE=image/jpeg:https://cencogan.com/wp-content/uploads/2023/04/banner1.jpg
END:VEVENT
BEGIN:VEVENT
DTSTART;TZID=America/New_York:20250318T130000
DTEND;TZID=America/New_York:20250318T130000
DTSTAMP:20260421T061155
CREATED:20230718T152804Z
LAST-MODIFIED:20240606T140250Z
UID:10001688-1742302800-1742302800@cencogan.com
SUMMARY:Subasta comercial
DESCRIPTION:Registrese y\nCompre \nVer el\nReglamento \nInformes\n300 693 7161
URL:https://cencogan.com/evento/subasta-semanal-planeta-rica/2025-03-18/
LOCATION:Cencogan Planeta Rica\, Planeta Rica\, Colombia
CATEGORIES:General,Planeta Rica
ATTACH;FMTTYPE=image/jpeg:https://cencogan.com/wp-content/uploads/2023/04/banner1.jpg
END:VEVENT
BEGIN:VEVENT
DTSTART;TZID=America/New_York:20250311T130000
DTEND;TZID=America/New_York:20250311T130000
DTSTAMP:20260421T061155
CREATED:20230718T152804Z
LAST-MODIFIED:20240606T140250Z
UID:10001687-1741698000-1741698000@cencogan.com
SUMMARY:Subasta comercial
DESCRIPTION:Registrese y\nCompre \nVer el\nReglamento \nInformes\n300 693 7161
URL:https://cencogan.com/evento/subasta-semanal-planeta-rica/2025-03-11/
LOCATION:Cencogan Planeta Rica\, Planeta Rica\, Colombia
CATEGORIES:General,Planeta Rica
ATTACH;FMTTYPE=image/jpeg:https://cencogan.com/wp-content/uploads/2023/04/banner1.jpg
END:VEVENT
BEGIN:VEVENT
DTSTART;TZID=America/New_York:20250304T130000
DTEND;TZID=America/New_York:20250304T130000
DTSTAMP:20260421T061155
CREATED:20230718T152804Z
LAST-MODIFIED:20240606T140250Z
UID:10001686-1741093200-1741093200@cencogan.com
SUMMARY:Subasta comercial
DESCRIPTION:Registrese y\nCompre \nVer el\nReglamento \nInformes\n300 693 7161
URL:https://cencogan.com/evento/subasta-semanal-planeta-rica/2025-03-04/
LOCATION:Cencogan Planeta Rica\, Planeta Rica\, Colombia
CATEGORIES:General,Planeta Rica
ATTACH;FMTTYPE=image/jpeg:https://cencogan.com/wp-content/uploads/2023/04/banner1.jpg
END:VEVENT
BEGIN:VEVENT
DTSTART;TZID=America/New_York:20250225T130000
DTEND;TZID=America/New_York:20250225T130000
DTSTAMP:20260421T061155
CREATED:20230718T152804Z
LAST-MODIFIED:20240606T140250Z
UID:10001685-1740488400-1740488400@cencogan.com
SUMMARY:Subasta comercial
DESCRIPTION:Registrese y\nCompre \nVer el\nReglamento \nInformes\n300 693 7161
URL:https://cencogan.com/evento/subasta-semanal-planeta-rica/2025-02-25/
LOCATION:Cencogan Planeta Rica\, Planeta Rica\, Colombia
CATEGORIES:General,Planeta Rica
ATTACH;FMTTYPE=image/jpeg:https://cencogan.com/wp-content/uploads/2023/04/banner1.jpg
END:VEVENT
BEGIN:VEVENT
DTSTART;TZID=America/New_York:20250218T130000
DTEND;TZID=America/New_York:20250218T130000
DTSTAMP:20260421T061155
CREATED:20230718T152804Z
LAST-MODIFIED:20240606T140250Z
UID:10001684-1739883600-1739883600@cencogan.com
SUMMARY:Subasta comercial
DESCRIPTION:Registrese y\nCompre \nVer el\nReglamento \nInformes\n300 693 7161
URL:https://cencogan.com/evento/subasta-semanal-planeta-rica/2025-02-18/
LOCATION:Cencogan Planeta Rica\, Planeta Rica\, Colombia
CATEGORIES:General,Planeta Rica
ATTACH;FMTTYPE=image/jpeg:https://cencogan.com/wp-content/uploads/2023/04/banner1.jpg
END:VEVENT
BEGIN:VEVENT
DTSTART;TZID=America/New_York:20250211T130000
DTEND;TZID=America/New_York:20250211T130000
DTSTAMP:20260421T061155
CREATED:20230718T152804Z
LAST-MODIFIED:20240606T140250Z
UID:10001683-1739278800-1739278800@cencogan.com
SUMMARY:Subasta comercial
DESCRIPTION:Registrese y\nCompre \nVer el\nReglamento \nInformes\n300 693 7161
URL:https://cencogan.com/evento/subasta-semanal-planeta-rica/2025-02-11/
LOCATION:Cencogan Planeta Rica\, Planeta Rica\, Colombia
CATEGORIES:General,Planeta Rica
ATTACH;FMTTYPE=image/jpeg:https://cencogan.com/wp-content/uploads/2023/04/banner1.jpg
END:VEVENT
END:VCALENDAR