BEGIN:VCALENDAR
VERSION:2.0
PRODID:-//Cencogan - ECPv6.4.0.1//NONSGML v1.0//EN
CALSCALE:GREGORIAN
METHOD:PUBLISH
X-ORIGINAL-URL:https://cencogan.com
X-WR-CALDESC:Eventos para Cencogan
REFRESH-INTERVAL;VALUE=DURATION:PT1H
X-Robots-Tag:noindex
X-PUBLISHED-TTL:PT1H
BEGIN:VTIMEZONE
TZID:America/New_York
BEGIN:DAYLIGHT
TZOFFSETFROM:-0500
TZOFFSETTO:-0400
TZNAME:EDT
DTSTART:20270314T070000
END:DAYLIGHT
BEGIN:STANDARD
TZOFFSETFROM:-0400
TZOFFSETTO:-0500
TZNAME:EST
DTSTART:20271107T060000
END:STANDARD
END:VTIMEZONE
BEGIN:VEVENT
DTSTART;TZID=America/New_York:20270701T120000
DTEND;TZID=America/New_York:20270701T120000
DTSTAMP:20260425T124911
CREATED:20230726T164917Z
LAST-MODIFIED:20240606T140359Z
UID:10002102-1814443200-1814443200@cencogan.com
SUMMARY:Subasta comercial
DESCRIPTION:Registrese y\nCompre \nVer el\nReglamento \nInformes\n301 660 5574
URL:https://cencogan.com/evento/subasta-semanal-buenavista/2027-07-01/
LOCATION:Cencogan Buenavista\, Cencogan Buenavista\, Buenavista\, Colombia
CATEGORIES:Buenavista,General
ATTACH;FMTTYPE=image/jpeg:https://cencogan.com/wp-content/uploads/2023/04/banner2.jpg
END:VEVENT
BEGIN:VEVENT
DTSTART;TZID=America/New_York:20270706T130000
DTEND;TZID=America/New_York:20270706T130000
DTSTAMP:20260425T124911
CREATED:20230718T152804Z
LAST-MODIFIED:20240606T140250Z
UID:10001808-1814878800-1814878800@cencogan.com
SUMMARY:Subasta comercial
DESCRIPTION:Registrese y\nCompre \nVer el\nReglamento \nInformes\n300 693 7161
URL:https://cencogan.com/evento/subasta-semanal-planeta-rica/2027-07-06/
LOCATION:Cencogan Planeta Rica\, Planeta Rica\, Colombia
CATEGORIES:General,Planeta Rica
ATTACH;FMTTYPE=image/jpeg:https://cencogan.com/wp-content/uploads/2023/04/banner1.jpg
END:VEVENT
BEGIN:VEVENT
DTSTART;TZID=America/New_York:20270708T120000
DTEND;TZID=America/New_York:20270708T120000
DTSTAMP:20260425T124911
CREATED:20230726T164917Z
LAST-MODIFIED:20240606T140359Z
UID:10002103-1815048000-1815048000@cencogan.com
SUMMARY:Subasta comercial
DESCRIPTION:Registrese y\nCompre \nVer el\nReglamento \nInformes\n301 660 5574
URL:https://cencogan.com/evento/subasta-semanal-buenavista/2027-07-08/
LOCATION:Cencogan Buenavista\, Cencogan Buenavista\, Buenavista\, Colombia
CATEGORIES:Buenavista,General
ATTACH;FMTTYPE=image/jpeg:https://cencogan.com/wp-content/uploads/2023/04/banner2.jpg
END:VEVENT
BEGIN:VEVENT
DTSTART;TZID=America/New_York:20270709T140000
DTEND;TZID=America/New_York:20270709T140000
DTSTAMP:20260425T124911
CREATED:20250129T125606Z
LAST-MODIFIED:20250129T130157Z
UID:10003276-1815141600-1815141600@cencogan.com
SUMMARY:Subasta comercial
DESCRIPTION:Registrese y\nCompre \nVer el\nReglamento \nInformes\n300 693 7161
URL:https://cencogan.com/evento/subasta-comercial-2/2027-07-09/
LOCATION:Cencogan Tarazá\, Km 1 vía Tarazá - Caucasia\, Tarazá\, Antioquia\, Colombia
CATEGORIES:General,Tarazá
ATTACH;FMTTYPE=image/jpeg:https://cencogan.com/wp-content/uploads/2023/04/banner1.jpg
END:VEVENT
BEGIN:VEVENT
DTSTART;TZID=America/New_York:20270713T130000
DTEND;TZID=America/New_York:20270713T130000
DTSTAMP:20260425T124911
CREATED:20230718T152804Z
LAST-MODIFIED:20240606T140250Z
UID:10001809-1815483600-1815483600@cencogan.com
SUMMARY:Subasta comercial
DESCRIPTION:Registrese y\nCompre \nVer el\nReglamento \nInformes\n300 693 7161
URL:https://cencogan.com/evento/subasta-semanal-planeta-rica/2027-07-13/
LOCATION:Cencogan Planeta Rica\, Planeta Rica\, Colombia
CATEGORIES:General,Planeta Rica
ATTACH;FMTTYPE=image/jpeg:https://cencogan.com/wp-content/uploads/2023/04/banner1.jpg
END:VEVENT
BEGIN:VEVENT
DTSTART;TZID=America/New_York:20270715T120000
DTEND;TZID=America/New_York:20270715T120000
DTSTAMP:20260425T124911
CREATED:20230726T164917Z
LAST-MODIFIED:20240606T140359Z
UID:10002104-1815652800-1815652800@cencogan.com
SUMMARY:Subasta comercial
DESCRIPTION:Registrese y\nCompre \nVer el\nReglamento \nInformes\n301 660 5574
URL:https://cencogan.com/evento/subasta-semanal-buenavista/2027-07-15/
LOCATION:Cencogan Buenavista\, Cencogan Buenavista\, Buenavista\, Colombia
CATEGORIES:Buenavista,General
ATTACH;FMTTYPE=image/jpeg:https://cencogan.com/wp-content/uploads/2023/04/banner2.jpg
END:VEVENT
BEGIN:VEVENT
DTSTART;TZID=America/New_York:20270720T130000
DTEND;TZID=America/New_York:20270720T130000
DTSTAMP:20260425T124911
CREATED:20230718T152804Z
LAST-MODIFIED:20240606T140250Z
UID:10001810-1816088400-1816088400@cencogan.com
SUMMARY:Subasta comercial
DESCRIPTION:Registrese y\nCompre \nVer el\nReglamento \nInformes\n300 693 7161
URL:https://cencogan.com/evento/subasta-semanal-planeta-rica/2027-07-20/
LOCATION:Cencogan Planeta Rica\, Planeta Rica\, Colombia
CATEGORIES:General,Planeta Rica
ATTACH;FMTTYPE=image/jpeg:https://cencogan.com/wp-content/uploads/2023/04/banner1.jpg
END:VEVENT
BEGIN:VEVENT
DTSTART;TZID=America/New_York:20270722T120000
DTEND;TZID=America/New_York:20270722T120000
DTSTAMP:20260425T124911
CREATED:20230726T164917Z
LAST-MODIFIED:20240606T140359Z
UID:10002105-1816257600-1816257600@cencogan.com
SUMMARY:Subasta comercial
DESCRIPTION:Registrese y\nCompre \nVer el\nReglamento \nInformes\n301 660 5574
URL:https://cencogan.com/evento/subasta-semanal-buenavista/2027-07-22/
LOCATION:Cencogan Buenavista\, Cencogan Buenavista\, Buenavista\, Colombia
CATEGORIES:Buenavista,General
ATTACH;FMTTYPE=image/jpeg:https://cencogan.com/wp-content/uploads/2023/04/banner2.jpg
END:VEVENT
BEGIN:VEVENT
DTSTART;TZID=America/New_York:20270723T140000
DTEND;TZID=America/New_York:20270723T140000
DTSTAMP:20260425T124911
CREATED:20250129T125606Z
LAST-MODIFIED:20250129T130157Z
UID:10003277-1816351200-1816351200@cencogan.com
SUMMARY:Subasta comercial
DESCRIPTION:Registrese y\nCompre \nVer el\nReglamento \nInformes\n300 693 7161
URL:https://cencogan.com/evento/subasta-comercial-2/2027-07-23/
LOCATION:Cencogan Tarazá\, Km 1 vía Tarazá - Caucasia\, Tarazá\, Antioquia\, Colombia
CATEGORIES:General,Tarazá
ATTACH;FMTTYPE=image/jpeg:https://cencogan.com/wp-content/uploads/2023/04/banner1.jpg
END:VEVENT
BEGIN:VEVENT
DTSTART;TZID=America/New_York:20270727T130000
DTEND;TZID=America/New_York:20270727T130000
DTSTAMP:20260425T124911
CREATED:20230718T152804Z
LAST-MODIFIED:20240606T140250Z
UID:10001811-1816693200-1816693200@cencogan.com
SUMMARY:Subasta comercial
DESCRIPTION:Registrese y\nCompre \nVer el\nReglamento \nInformes\n300 693 7161
URL:https://cencogan.com/evento/subasta-semanal-planeta-rica/2027-07-27/
LOCATION:Cencogan Planeta Rica\, Planeta Rica\, Colombia
CATEGORIES:General,Planeta Rica
ATTACH;FMTTYPE=image/jpeg:https://cencogan.com/wp-content/uploads/2023/04/banner1.jpg
END:VEVENT
BEGIN:VEVENT
DTSTART;TZID=America/New_York:20270729T120000
DTEND;TZID=America/New_York:20270729T120000
DTSTAMP:20260425T124911
CREATED:20230726T164917Z
LAST-MODIFIED:20240606T140359Z
UID:10002106-1816862400-1816862400@cencogan.com
SUMMARY:Subasta comercial
DESCRIPTION:Registrese y\nCompre \nVer el\nReglamento \nInformes\n301 660 5574
URL:https://cencogan.com/evento/subasta-semanal-buenavista/2027-07-29/
LOCATION:Cencogan Buenavista\, Cencogan Buenavista\, Buenavista\, Colombia
CATEGORIES:Buenavista,General
ATTACH;FMTTYPE=image/jpeg:https://cencogan.com/wp-content/uploads/2023/04/banner2.jpg
END:VEVENT
END:VCALENDAR