BEGIN:VCALENDAR
VERSION:2.0
PRODID:-//Cencogan - ECPv6.4.0.1//NONSGML v1.0//EN
CALSCALE:GREGORIAN
METHOD:PUBLISH
X-WR-CALNAME:Cencogan
X-ORIGINAL-URL:https://cencogan.com
X-WR-CALDESC:Eventos para Cencogan
REFRESH-INTERVAL;VALUE=DURATION:PT1H
X-Robots-Tag:noindex
X-PUBLISHED-TTL:PT1H
BEGIN:VTIMEZONE
TZID:America/New_York
BEGIN:DAYLIGHT
TZOFFSETFROM:-0500
TZOFFSETTO:-0400
TZNAME:EDT
DTSTART:20270314T070000
END:DAYLIGHT
BEGIN:STANDARD
TZOFFSETFROM:-0400
TZOFFSETTO:-0500
TZNAME:EST
DTSTART:20271107T060000
END:STANDARD
END:VTIMEZONE
BEGIN:VEVENT
DTSTART;TZID=America/New_York:20270601T130000
DTEND;TZID=America/New_York:20270601T130000
DTSTAMP:20260425T110519
CREATED:20230718T152804Z
LAST-MODIFIED:20240606T140250Z
UID:10001803-1811854800-1811854800@cencogan.com
SUMMARY:Subasta comercial
DESCRIPTION:Registrese y\nCompre \nVer el\nReglamento \nInformes\n300 693 7161
URL:https://cencogan.com/evento/subasta-semanal-planeta-rica/2027-06-01/
LOCATION:Cencogan Planeta Rica\, Planeta Rica\, Colombia
CATEGORIES:General,Planeta Rica
ATTACH;FMTTYPE=image/jpeg:https://cencogan.com/wp-content/uploads/2023/04/banner1.jpg
END:VEVENT
BEGIN:VEVENT
DTSTART;TZID=America/New_York:20270603T120000
DTEND;TZID=America/New_York:20270603T120000
DTSTAMP:20260425T110519
CREATED:20230726T164917Z
LAST-MODIFIED:20240606T140359Z
UID:10002098-1812024000-1812024000@cencogan.com
SUMMARY:Subasta comercial
DESCRIPTION:Registrese y\nCompre \nVer el\nReglamento \nInformes\n301 660 5574
URL:https://cencogan.com/evento/subasta-semanal-buenavista/2027-06-03/
LOCATION:Cencogan Buenavista\, Cencogan Buenavista\, Buenavista\, Colombia
CATEGORIES:Buenavista,General
ATTACH;FMTTYPE=image/jpeg:https://cencogan.com/wp-content/uploads/2023/04/banner2.jpg
END:VEVENT
BEGIN:VEVENT
DTSTART;TZID=America/New_York:20270608T130000
DTEND;TZID=America/New_York:20270608T130000
DTSTAMP:20260425T110519
CREATED:20230718T152804Z
LAST-MODIFIED:20240606T140250Z
UID:10001804-1812459600-1812459600@cencogan.com
SUMMARY:Subasta comercial
DESCRIPTION:Registrese y\nCompre \nVer el\nReglamento \nInformes\n300 693 7161
URL:https://cencogan.com/evento/subasta-semanal-planeta-rica/2027-06-08/
LOCATION:Cencogan Planeta Rica\, Planeta Rica\, Colombia
CATEGORIES:General,Planeta Rica
ATTACH;FMTTYPE=image/jpeg:https://cencogan.com/wp-content/uploads/2023/04/banner1.jpg
END:VEVENT
BEGIN:VEVENT
DTSTART;TZID=America/New_York:20270610T120000
DTEND;TZID=America/New_York:20270610T120000
DTSTAMP:20260425T110519
CREATED:20230726T164917Z
LAST-MODIFIED:20240606T140359Z
UID:10002099-1812628800-1812628800@cencogan.com
SUMMARY:Subasta comercial
DESCRIPTION:Registrese y\nCompre \nVer el\nReglamento \nInformes\n301 660 5574
URL:https://cencogan.com/evento/subasta-semanal-buenavista/2027-06-10/
LOCATION:Cencogan Buenavista\, Cencogan Buenavista\, Buenavista\, Colombia
CATEGORIES:Buenavista,General
ATTACH;FMTTYPE=image/jpeg:https://cencogan.com/wp-content/uploads/2023/04/banner2.jpg
END:VEVENT
BEGIN:VEVENT
DTSTART;TZID=America/New_York:20270611T140000
DTEND;TZID=America/New_York:20270611T140000
DTSTAMP:20260425T110519
CREATED:20250129T125606Z
LAST-MODIFIED:20250129T130157Z
UID:10003274-1812722400-1812722400@cencogan.com
SUMMARY:Subasta comercial
DESCRIPTION:Registrese y\nCompre \nVer el\nReglamento \nInformes\n300 693 7161
URL:https://cencogan.com/evento/subasta-comercial-2/2027-06-11/
LOCATION:Cencogan Tarazá\, Km 1 vía Tarazá - Caucasia\, Tarazá\, Antioquia\, Colombia
CATEGORIES:General,Tarazá
ATTACH;FMTTYPE=image/jpeg:https://cencogan.com/wp-content/uploads/2023/04/banner1.jpg
END:VEVENT
BEGIN:VEVENT
DTSTART;TZID=America/New_York:20270615T130000
DTEND;TZID=America/New_York:20270615T130000
DTSTAMP:20260425T110519
CREATED:20230718T152804Z
LAST-MODIFIED:20240606T140250Z
UID:10001805-1813064400-1813064400@cencogan.com
SUMMARY:Subasta comercial
DESCRIPTION:Registrese y\nCompre \nVer el\nReglamento \nInformes\n300 693 7161
URL:https://cencogan.com/evento/subasta-semanal-planeta-rica/2027-06-15/
LOCATION:Cencogan Planeta Rica\, Planeta Rica\, Colombia
CATEGORIES:General,Planeta Rica
ATTACH;FMTTYPE=image/jpeg:https://cencogan.com/wp-content/uploads/2023/04/banner1.jpg
END:VEVENT
BEGIN:VEVENT
DTSTART;TZID=America/New_York:20270617T120000
DTEND;TZID=America/New_York:20270617T120000
DTSTAMP:20260425T110519
CREATED:20230726T164917Z
LAST-MODIFIED:20240606T140359Z
UID:10002100-1813233600-1813233600@cencogan.com
SUMMARY:Subasta comercial
DESCRIPTION:Registrese y\nCompre \nVer el\nReglamento \nInformes\n301 660 5574
URL:https://cencogan.com/evento/subasta-semanal-buenavista/2027-06-17/
LOCATION:Cencogan Buenavista\, Cencogan Buenavista\, Buenavista\, Colombia
CATEGORIES:Buenavista,General
ATTACH;FMTTYPE=image/jpeg:https://cencogan.com/wp-content/uploads/2023/04/banner2.jpg
END:VEVENT
BEGIN:VEVENT
DTSTART;TZID=America/New_York:20270622T130000
DTEND;TZID=America/New_York:20270622T130000
DTSTAMP:20260425T110520
CREATED:20230718T152804Z
LAST-MODIFIED:20240606T140250Z
UID:10001806-1813669200-1813669200@cencogan.com
SUMMARY:Subasta comercial
DESCRIPTION:Registrese y\nCompre \nVer el\nReglamento \nInformes\n300 693 7161
URL:https://cencogan.com/evento/subasta-semanal-planeta-rica/2027-06-22/
LOCATION:Cencogan Planeta Rica\, Planeta Rica\, Colombia
CATEGORIES:General,Planeta Rica
ATTACH;FMTTYPE=image/jpeg:https://cencogan.com/wp-content/uploads/2023/04/banner1.jpg
END:VEVENT
BEGIN:VEVENT
DTSTART;TZID=America/New_York:20270624T120000
DTEND;TZID=America/New_York:20270624T120000
DTSTAMP:20260425T110520
CREATED:20230726T164917Z
LAST-MODIFIED:20240606T140359Z
UID:10002101-1813838400-1813838400@cencogan.com
SUMMARY:Subasta comercial
DESCRIPTION:Registrese y\nCompre \nVer el\nReglamento \nInformes\n301 660 5574
URL:https://cencogan.com/evento/subasta-semanal-buenavista/2027-06-24/
LOCATION:Cencogan Buenavista\, Cencogan Buenavista\, Buenavista\, Colombia
CATEGORIES:Buenavista,General
ATTACH;FMTTYPE=image/jpeg:https://cencogan.com/wp-content/uploads/2023/04/banner2.jpg
END:VEVENT
BEGIN:VEVENT
DTSTART;TZID=America/New_York:20270625T140000
DTEND;TZID=America/New_York:20270625T140000
DTSTAMP:20260425T110520
CREATED:20250129T125606Z
LAST-MODIFIED:20250129T130157Z
UID:10003275-1813932000-1813932000@cencogan.com
SUMMARY:Subasta comercial
DESCRIPTION:Registrese y\nCompre \nVer el\nReglamento \nInformes\n300 693 7161
URL:https://cencogan.com/evento/subasta-comercial-2/2027-06-25/
LOCATION:Cencogan Tarazá\, Km 1 vía Tarazá - Caucasia\, Tarazá\, Antioquia\, Colombia
CATEGORIES:General,Tarazá
ATTACH;FMTTYPE=image/jpeg:https://cencogan.com/wp-content/uploads/2023/04/banner1.jpg
END:VEVENT
BEGIN:VEVENT
DTSTART;TZID=America/New_York:20270629T130000
DTEND;TZID=America/New_York:20270629T130000
DTSTAMP:20260425T110520
CREATED:20230718T152804Z
LAST-MODIFIED:20240606T140250Z
UID:10001807-1814274000-1814274000@cencogan.com
SUMMARY:Subasta comercial
DESCRIPTION:Registrese y\nCompre \nVer el\nReglamento \nInformes\n300 693 7161
URL:https://cencogan.com/evento/subasta-semanal-planeta-rica/2027-06-29/
LOCATION:Cencogan Planeta Rica\, Planeta Rica\, Colombia
CATEGORIES:General,Planeta Rica
ATTACH;FMTTYPE=image/jpeg:https://cencogan.com/wp-content/uploads/2023/04/banner1.jpg
END:VEVENT
END:VCALENDAR