BEGIN:VCALENDAR
VERSION:2.0
PRODID:-//Cencogan - ECPv6.4.0.1//NONSGML v1.0//EN
CALSCALE:GREGORIAN
METHOD:PUBLISH
X-ORIGINAL-URL:https://cencogan.com
X-WR-CALDESC:Eventos para Cencogan
REFRESH-INTERVAL;VALUE=DURATION:PT1H
X-Robots-Tag:noindex
X-PUBLISHED-TTL:PT1H
BEGIN:VTIMEZONE
TZID:America/New_York
BEGIN:DAYLIGHT
TZOFFSETFROM:-0500
TZOFFSETTO:-0400
TZNAME:EDT
DTSTART:20260308T070000
END:DAYLIGHT
BEGIN:STANDARD
TZOFFSETFROM:-0400
TZOFFSETTO:-0500
TZNAME:EST
DTSTART:20261101T060000
END:STANDARD
END:VTIMEZONE
BEGIN:VEVENT
DTSTART;TZID=America/New_York:20260804T130000
DTEND;TZID=America/New_York:20260804T130000
DTSTAMP:20260419T195122
CREATED:20230718T152804Z
LAST-MODIFIED:20240606T140250Z
UID:10001760-1785848400-1785848400@cencogan.com
SUMMARY:Subasta comercial
DESCRIPTION:Registrese y\nCompre \nVer el\nReglamento \nInformes\n300 693 7161
URL:https://cencogan.com/evento/subasta-semanal-planeta-rica/2026-08-04/
LOCATION:Cencogan Planeta Rica\, Planeta Rica\, Colombia
CATEGORIES:General,Planeta Rica
ATTACH;FMTTYPE=image/jpeg:https://cencogan.com/wp-content/uploads/2023/04/banner1.jpg
END:VEVENT
BEGIN:VEVENT
DTSTART;TZID=America/New_York:20260806T120000
DTEND;TZID=America/New_York:20260806T120000
DTSTAMP:20260419T195122
CREATED:20230726T164917Z
LAST-MODIFIED:20240606T140359Z
UID:10002055-1786017600-1786017600@cencogan.com
SUMMARY:Subasta comercial
DESCRIPTION:Registrese y\nCompre \nVer el\nReglamento \nInformes\n301 660 5574
URL:https://cencogan.com/evento/subasta-semanal-buenavista/2026-08-06/
LOCATION:Cencogan Buenavista\, Cencogan Buenavista\, Buenavista\, Colombia
CATEGORIES:Buenavista,General
ATTACH;FMTTYPE=image/jpeg:https://cencogan.com/wp-content/uploads/2023/04/banner2.jpg
END:VEVENT
BEGIN:VEVENT
DTSTART;TZID=America/New_York:20260807T140000
DTEND;TZID=America/New_York:20260807T140000
DTSTAMP:20260419T195122
CREATED:20250129T125606Z
LAST-MODIFIED:20250129T130157Z
UID:10003252-1786111200-1786111200@cencogan.com
SUMMARY:Subasta comercial
DESCRIPTION:Registrese y\nCompre \nVer el\nReglamento \nInformes\n300 693 7161
URL:https://cencogan.com/evento/subasta-comercial-2/2026-08-07/
LOCATION:Cencogan Tarazá\, Km 1 vía Tarazá - Caucasia\, Tarazá\, Antioquia\, Colombia
CATEGORIES:General,Tarazá
ATTACH;FMTTYPE=image/jpeg:https://cencogan.com/wp-content/uploads/2023/04/banner1.jpg
END:VEVENT
BEGIN:VEVENT
DTSTART;TZID=America/New_York:20260811T130000
DTEND;TZID=America/New_York:20260811T130000
DTSTAMP:20260419T195122
CREATED:20230718T152804Z
LAST-MODIFIED:20240606T140250Z
UID:10001761-1786453200-1786453200@cencogan.com
SUMMARY:Subasta comercial
DESCRIPTION:Registrese y\nCompre \nVer el\nReglamento \nInformes\n300 693 7161
URL:https://cencogan.com/evento/subasta-semanal-planeta-rica/2026-08-11/
LOCATION:Cencogan Planeta Rica\, Planeta Rica\, Colombia
CATEGORIES:General,Planeta Rica
ATTACH;FMTTYPE=image/jpeg:https://cencogan.com/wp-content/uploads/2023/04/banner1.jpg
END:VEVENT
BEGIN:VEVENT
DTSTART;TZID=America/New_York:20260813T120000
DTEND;TZID=America/New_York:20260813T120000
DTSTAMP:20260419T195122
CREATED:20230726T164917Z
LAST-MODIFIED:20240606T140359Z
UID:10002056-1786622400-1786622400@cencogan.com
SUMMARY:Subasta comercial
DESCRIPTION:Registrese y\nCompre \nVer el\nReglamento \nInformes\n301 660 5574
URL:https://cencogan.com/evento/subasta-semanal-buenavista/2026-08-13/
LOCATION:Cencogan Buenavista\, Cencogan Buenavista\, Buenavista\, Colombia
CATEGORIES:Buenavista,General
ATTACH;FMTTYPE=image/jpeg:https://cencogan.com/wp-content/uploads/2023/04/banner2.jpg
END:VEVENT
BEGIN:VEVENT
DTSTART;TZID=America/New_York:20260818T130000
DTEND;TZID=America/New_York:20260818T130000
DTSTAMP:20260419T195122
CREATED:20230718T152804Z
LAST-MODIFIED:20240606T140250Z
UID:10001762-1787058000-1787058000@cencogan.com
SUMMARY:Subasta comercial
DESCRIPTION:Registrese y\nCompre \nVer el\nReglamento \nInformes\n300 693 7161
URL:https://cencogan.com/evento/subasta-semanal-planeta-rica/2026-08-18/
LOCATION:Cencogan Planeta Rica\, Planeta Rica\, Colombia
CATEGORIES:General,Planeta Rica
ATTACH;FMTTYPE=image/jpeg:https://cencogan.com/wp-content/uploads/2023/04/banner1.jpg
END:VEVENT
BEGIN:VEVENT
DTSTART;TZID=America/New_York:20260820T120000
DTEND;TZID=America/New_York:20260820T120000
DTSTAMP:20260419T195122
CREATED:20230726T164917Z
LAST-MODIFIED:20240606T140359Z
UID:10002057-1787227200-1787227200@cencogan.com
SUMMARY:Subasta comercial
DESCRIPTION:Registrese y\nCompre \nVer el\nReglamento \nInformes\n301 660 5574
URL:https://cencogan.com/evento/subasta-semanal-buenavista/2026-08-20/
LOCATION:Cencogan Buenavista\, Cencogan Buenavista\, Buenavista\, Colombia
CATEGORIES:Buenavista,General
ATTACH;FMTTYPE=image/jpeg:https://cencogan.com/wp-content/uploads/2023/04/banner2.jpg
END:VEVENT
BEGIN:VEVENT
DTSTART;TZID=America/New_York:20260821T140000
DTEND;TZID=America/New_York:20260821T140000
DTSTAMP:20260419T195122
CREATED:20250129T125606Z
LAST-MODIFIED:20250129T130157Z
UID:10003253-1787320800-1787320800@cencogan.com
SUMMARY:Subasta comercial
DESCRIPTION:Registrese y\nCompre \nVer el\nReglamento \nInformes\n300 693 7161
URL:https://cencogan.com/evento/subasta-comercial-2/2026-08-21/
LOCATION:Cencogan Tarazá\, Km 1 vía Tarazá - Caucasia\, Tarazá\, Antioquia\, Colombia
CATEGORIES:General,Tarazá
ATTACH;FMTTYPE=image/jpeg:https://cencogan.com/wp-content/uploads/2023/04/banner1.jpg
END:VEVENT
BEGIN:VEVENT
DTSTART;TZID=America/New_York:20260825T130000
DTEND;TZID=America/New_York:20260825T130000
DTSTAMP:20260419T195122
CREATED:20230718T152804Z
LAST-MODIFIED:20240606T140250Z
UID:10001763-1787662800-1787662800@cencogan.com
SUMMARY:Subasta comercial
DESCRIPTION:Registrese y\nCompre \nVer el\nReglamento \nInformes\n300 693 7161
URL:https://cencogan.com/evento/subasta-semanal-planeta-rica/2026-08-25/
LOCATION:Cencogan Planeta Rica\, Planeta Rica\, Colombia
CATEGORIES:General,Planeta Rica
ATTACH;FMTTYPE=image/jpeg:https://cencogan.com/wp-content/uploads/2023/04/banner1.jpg
END:VEVENT
BEGIN:VEVENT
DTSTART;TZID=America/New_York:20260827T120000
DTEND;TZID=America/New_York:20260827T120000
DTSTAMP:20260419T195122
CREATED:20230726T164917Z
LAST-MODIFIED:20240606T140359Z
UID:10002058-1787832000-1787832000@cencogan.com
SUMMARY:Subasta comercial
DESCRIPTION:Registrese y\nCompre \nVer el\nReglamento \nInformes\n301 660 5574
URL:https://cencogan.com/evento/subasta-semanal-buenavista/2026-08-27/
LOCATION:Cencogan Buenavista\, Cencogan Buenavista\, Buenavista\, Colombia
CATEGORIES:Buenavista,General
ATTACH;FMTTYPE=image/jpeg:https://cencogan.com/wp-content/uploads/2023/04/banner2.jpg
END:VEVENT
END:VCALENDAR