BEGIN:VCALENDAR
VERSION:2.0
PRODID:-//Cencogan - ECPv6.4.0.1//NONSGML v1.0//EN
CALSCALE:GREGORIAN
METHOD:PUBLISH
X-WR-CALNAME:Cencogan
X-ORIGINAL-URL:https://cencogan.com
X-WR-CALDESC:Eventos para Cencogan
REFRESH-INTERVAL;VALUE=DURATION:PT1H
X-Robots-Tag:noindex
X-PUBLISHED-TTL:PT1H
BEGIN:VTIMEZONE
TZID:America/New_York
BEGIN:DAYLIGHT
TZOFFSETFROM:-0500
TZOFFSETTO:-0400
TZNAME:EDT
DTSTART:20260308T070000
END:DAYLIGHT
BEGIN:STANDARD
TZOFFSETFROM:-0400
TZOFFSETTO:-0500
TZNAME:EST
DTSTART:20261101T060000
END:STANDARD
END:VTIMEZONE
BEGIN:VEVENT
DTSTART;TZID=America/New_York:20260602T130000
DTEND;TZID=America/New_York:20260602T130000
DTSTAMP:20260419T141005
CREATED:20230718T152804Z
LAST-MODIFIED:20240606T140250Z
UID:10001751-1780405200-1780405200@cencogan.com
SUMMARY:Subasta comercial
DESCRIPTION:Registrese y\nCompre \nVer el\nReglamento \nInformes\n300 693 7161
URL:https://cencogan.com/evento/subasta-semanal-planeta-rica/2026-06-02/
LOCATION:Cencogan Planeta Rica\, Planeta Rica\, Colombia
CATEGORIES:General,Planeta Rica
ATTACH;FMTTYPE=image/jpeg:https://cencogan.com/wp-content/uploads/2023/04/banner1.jpg
END:VEVENT
BEGIN:VEVENT
DTSTART;TZID=America/New_York:20260604T120000
DTEND;TZID=America/New_York:20260604T120000
DTSTAMP:20260419T141005
CREATED:20230726T164917Z
LAST-MODIFIED:20240606T140359Z
UID:10002046-1780574400-1780574400@cencogan.com
SUMMARY:Subasta comercial
DESCRIPTION:Registrese y\nCompre \nVer el\nReglamento \nInformes\n301 660 5574
URL:https://cencogan.com/evento/subasta-semanal-buenavista/2026-06-04/
LOCATION:Cencogan Buenavista\, Cencogan Buenavista\, Buenavista\, Colombia
CATEGORIES:Buenavista,General
ATTACH;FMTTYPE=image/jpeg:https://cencogan.com/wp-content/uploads/2023/04/banner2.jpg
END:VEVENT
BEGIN:VEVENT
DTSTART;TZID=America/New_York:20260609T130000
DTEND;TZID=America/New_York:20260609T130000
DTSTAMP:20260419T141005
CREATED:20230718T152804Z
LAST-MODIFIED:20240606T140250Z
UID:10001752-1781010000-1781010000@cencogan.com
SUMMARY:Subasta comercial
DESCRIPTION:Registrese y\nCompre \nVer el\nReglamento \nInformes\n300 693 7161
URL:https://cencogan.com/evento/subasta-semanal-planeta-rica/2026-06-09/
LOCATION:Cencogan Planeta Rica\, Planeta Rica\, Colombia
CATEGORIES:General,Planeta Rica
ATTACH;FMTTYPE=image/jpeg:https://cencogan.com/wp-content/uploads/2023/04/banner1.jpg
END:VEVENT
BEGIN:VEVENT
DTSTART;TZID=America/New_York:20260611T120000
DTEND;TZID=America/New_York:20260611T120000
DTSTAMP:20260419T141005
CREATED:20230726T164917Z
LAST-MODIFIED:20240606T140359Z
UID:10002047-1781179200-1781179200@cencogan.com
SUMMARY:Subasta comercial
DESCRIPTION:Registrese y\nCompre \nVer el\nReglamento \nInformes\n301 660 5574
URL:https://cencogan.com/evento/subasta-semanal-buenavista/2026-06-11/
LOCATION:Cencogan Buenavista\, Cencogan Buenavista\, Buenavista\, Colombia
CATEGORIES:Buenavista,General
ATTACH;FMTTYPE=image/jpeg:https://cencogan.com/wp-content/uploads/2023/04/banner2.jpg
END:VEVENT
BEGIN:VEVENT
DTSTART;TZID=America/New_York:20260612T140000
DTEND;TZID=America/New_York:20260612T140000
DTSTAMP:20260419T141005
CREATED:20250129T125606Z
LAST-MODIFIED:20250129T130157Z
UID:10003248-1781272800-1781272800@cencogan.com
SUMMARY:Subasta comercial
DESCRIPTION:Registrese y\nCompre \nVer el\nReglamento \nInformes\n300 693 7161
URL:https://cencogan.com/evento/subasta-comercial-2/2026-06-12/
LOCATION:Cencogan Tarazá\, Km 1 vía Tarazá - Caucasia\, Tarazá\, Antioquia\, Colombia
CATEGORIES:General,Tarazá
ATTACH;FMTTYPE=image/jpeg:https://cencogan.com/wp-content/uploads/2023/04/banner1.jpg
END:VEVENT
BEGIN:VEVENT
DTSTART;TZID=America/New_York:20260616T130000
DTEND;TZID=America/New_York:20260616T130000
DTSTAMP:20260419T141005
CREATED:20230718T152804Z
LAST-MODIFIED:20240606T140250Z
UID:10001753-1781614800-1781614800@cencogan.com
SUMMARY:Subasta comercial
DESCRIPTION:Registrese y\nCompre \nVer el\nReglamento \nInformes\n300 693 7161
URL:https://cencogan.com/evento/subasta-semanal-planeta-rica/2026-06-16/
LOCATION:Cencogan Planeta Rica\, Planeta Rica\, Colombia
CATEGORIES:General,Planeta Rica
ATTACH;FMTTYPE=image/jpeg:https://cencogan.com/wp-content/uploads/2023/04/banner1.jpg
END:VEVENT
BEGIN:VEVENT
DTSTART;TZID=America/New_York:20260618T120000
DTEND;TZID=America/New_York:20260618T120000
DTSTAMP:20260419T141005
CREATED:20230726T164917Z
LAST-MODIFIED:20240606T140359Z
UID:10002048-1781784000-1781784000@cencogan.com
SUMMARY:Subasta comercial
DESCRIPTION:Registrese y\nCompre \nVer el\nReglamento \nInformes\n301 660 5574
URL:https://cencogan.com/evento/subasta-semanal-buenavista/2026-06-18/
LOCATION:Cencogan Buenavista\, Cencogan Buenavista\, Buenavista\, Colombia
CATEGORIES:Buenavista,General
ATTACH;FMTTYPE=image/jpeg:https://cencogan.com/wp-content/uploads/2023/04/banner2.jpg
END:VEVENT
BEGIN:VEVENT
DTSTART;TZID=America/New_York:20260623T130000
DTEND;TZID=America/New_York:20260623T130000
DTSTAMP:20260419T141005
CREATED:20230718T152804Z
LAST-MODIFIED:20240606T140250Z
UID:10001754-1782219600-1782219600@cencogan.com
SUMMARY:Subasta comercial
DESCRIPTION:Registrese y\nCompre \nVer el\nReglamento \nInformes\n300 693 7161
URL:https://cencogan.com/evento/subasta-semanal-planeta-rica/2026-06-23/
LOCATION:Cencogan Planeta Rica\, Planeta Rica\, Colombia
CATEGORIES:General,Planeta Rica
ATTACH;FMTTYPE=image/jpeg:https://cencogan.com/wp-content/uploads/2023/04/banner1.jpg
END:VEVENT
BEGIN:VEVENT
DTSTART;TZID=America/New_York:20260625T120000
DTEND;TZID=America/New_York:20260625T120000
DTSTAMP:20260419T141005
CREATED:20230726T164917Z
LAST-MODIFIED:20240606T140359Z
UID:10002049-1782388800-1782388800@cencogan.com
SUMMARY:Subasta comercial
DESCRIPTION:Registrese y\nCompre \nVer el\nReglamento \nInformes\n301 660 5574
URL:https://cencogan.com/evento/subasta-semanal-buenavista/2026-06-25/
LOCATION:Cencogan Buenavista\, Cencogan Buenavista\, Buenavista\, Colombia
CATEGORIES:Buenavista,General
ATTACH;FMTTYPE=image/jpeg:https://cencogan.com/wp-content/uploads/2023/04/banner2.jpg
END:VEVENT
BEGIN:VEVENT
DTSTART;TZID=America/New_York:20260626T140000
DTEND;TZID=America/New_York:20260626T140000
DTSTAMP:20260419T141005
CREATED:20250129T125606Z
LAST-MODIFIED:20250129T130157Z
UID:10003249-1782482400-1782482400@cencogan.com
SUMMARY:Subasta comercial
DESCRIPTION:Registrese y\nCompre \nVer el\nReglamento \nInformes\n300 693 7161
URL:https://cencogan.com/evento/subasta-comercial-2/2026-06-26/
LOCATION:Cencogan Tarazá\, Km 1 vía Tarazá - Caucasia\, Tarazá\, Antioquia\, Colombia
CATEGORIES:General,Tarazá
ATTACH;FMTTYPE=image/jpeg:https://cencogan.com/wp-content/uploads/2023/04/banner1.jpg
END:VEVENT
BEGIN:VEVENT
DTSTART;TZID=America/New_York:20260630T130000
DTEND;TZID=America/New_York:20260630T130000
DTSTAMP:20260419T141005
CREATED:20230718T152804Z
LAST-MODIFIED:20240606T140250Z
UID:10001755-1782824400-1782824400@cencogan.com
SUMMARY:Subasta comercial
DESCRIPTION:Registrese y\nCompre \nVer el\nReglamento \nInformes\n300 693 7161
URL:https://cencogan.com/evento/subasta-semanal-planeta-rica/2026-06-30/
LOCATION:Cencogan Planeta Rica\, Planeta Rica\, Colombia
CATEGORIES:General,Planeta Rica
ATTACH;FMTTYPE=image/jpeg:https://cencogan.com/wp-content/uploads/2023/04/banner1.jpg
END:VEVENT
END:VCALENDAR