BEGIN:VCALENDAR
VERSION:2.0
PRODID:-//Cencogan - ECPv6.4.0.1//NONSGML v1.0//EN
CALSCALE:GREGORIAN
METHOD:PUBLISH
X-WR-CALNAME:Cencogan
X-ORIGINAL-URL:https://cencogan.com
X-WR-CALDESC:Eventos para Cencogan
REFRESH-INTERVAL;VALUE=DURATION:PT1H
X-Robots-Tag:noindex
X-PUBLISHED-TTL:PT1H
BEGIN:VTIMEZONE
TZID:America/New_York
BEGIN:DAYLIGHT
TZOFFSETFROM:-0500
TZOFFSETTO:-0400
TZNAME:EDT
DTSTART:20250309T070000
END:DAYLIGHT
BEGIN:STANDARD
TZOFFSETFROM:-0400
TZOFFSETTO:-0500
TZNAME:EST
DTSTART:20251102T060000
END:STANDARD
BEGIN:DAYLIGHT
TZOFFSETFROM:-0500
TZOFFSETTO:-0400
TZNAME:EDT
DTSTART:20260308T070000
END:DAYLIGHT
BEGIN:STANDARD
TZOFFSETFROM:-0400
TZOFFSETTO:-0500
TZNAME:EST
DTSTART:20261101T060000
END:STANDARD
END:VTIMEZONE
BEGIN:VEVENT
DTSTART;TZID=America/New_York:20251104T130000
DTEND;TZID=America/New_York:20251104T130000
DTSTAMP:20260419T081603
CREATED:20230718T152804Z
LAST-MODIFIED:20240606T140250Z
UID:10001721-1762261200-1762261200@cencogan.com
SUMMARY:Subasta comercial
DESCRIPTION:Registrese y\nCompre \nVer el\nReglamento \nInformes\n300 693 7161
URL:https://cencogan.com/evento/subasta-semanal-planeta-rica/2025-11-04/
LOCATION:Cencogan Planeta Rica\, Planeta Rica\, Colombia
CATEGORIES:General,Planeta Rica
ATTACH;FMTTYPE=image/jpeg:https://cencogan.com/wp-content/uploads/2023/04/banner1.jpg
END:VEVENT
BEGIN:VEVENT
DTSTART;TZID=America/New_York:20251106T120000
DTEND;TZID=America/New_York:20251106T120000
DTSTAMP:20260419T081603
CREATED:20230726T164917Z
LAST-MODIFIED:20240606T140359Z
UID:10002016-1762430400-1762430400@cencogan.com
SUMMARY:Subasta comercial
DESCRIPTION:Registrese y\nCompre \nVer el\nReglamento \nInformes\n301 660 5574
URL:https://cencogan.com/evento/subasta-semanal-buenavista/2025-11-06/
LOCATION:Cencogan Buenavista\, Cencogan Buenavista\, Buenavista\, Colombia
CATEGORIES:Buenavista,General
ATTACH;FMTTYPE=image/jpeg:https://cencogan.com/wp-content/uploads/2023/04/banner2.jpg
END:VEVENT
BEGIN:VEVENT
DTSTART;TZID=America/New_York:20251111T130000
DTEND;TZID=America/New_York:20251111T130000
DTSTAMP:20260419T081603
CREATED:20230718T152804Z
LAST-MODIFIED:20240606T140250Z
UID:10001722-1762866000-1762866000@cencogan.com
SUMMARY:Subasta comercial
DESCRIPTION:Registrese y\nCompre \nVer el\nReglamento \nInformes\n300 693 7161
URL:https://cencogan.com/evento/subasta-semanal-planeta-rica/2025-11-11/
LOCATION:Cencogan Planeta Rica\, Planeta Rica\, Colombia
CATEGORIES:General,Planeta Rica
ATTACH;FMTTYPE=image/jpeg:https://cencogan.com/wp-content/uploads/2023/04/banner1.jpg
END:VEVENT
BEGIN:VEVENT
DTSTART;TZID=America/New_York:20251113T120000
DTEND;TZID=America/New_York:20251113T120000
DTSTAMP:20260419T081603
CREATED:20230726T164917Z
LAST-MODIFIED:20240606T140359Z
UID:10002017-1763035200-1763035200@cencogan.com
SUMMARY:Subasta comercial
DESCRIPTION:Registrese y\nCompre \nVer el\nReglamento \nInformes\n301 660 5574
URL:https://cencogan.com/evento/subasta-semanal-buenavista/2025-11-13/
LOCATION:Cencogan Buenavista\, Cencogan Buenavista\, Buenavista\, Colombia
CATEGORIES:Buenavista,General
ATTACH;FMTTYPE=image/jpeg:https://cencogan.com/wp-content/uploads/2023/04/banner2.jpg
END:VEVENT
BEGIN:VEVENT
DTSTART;TZID=America/New_York:20251114T140000
DTEND;TZID=America/New_York:20251114T140000
DTSTAMP:20260419T081603
CREATED:20250129T125606Z
LAST-MODIFIED:20250129T130157Z
UID:10003233-1763128800-1763128800@cencogan.com
SUMMARY:Subasta comercial
DESCRIPTION:Registrese y\nCompre \nVer el\nReglamento \nInformes\n300 693 7161
URL:https://cencogan.com/evento/subasta-comercial-2/2025-11-14/
LOCATION:Cencogan Tarazá\, Km 1 vía Tarazá - Caucasia\, Tarazá\, Antioquia\, Colombia
CATEGORIES:General,Tarazá
ATTACH;FMTTYPE=image/jpeg:https://cencogan.com/wp-content/uploads/2023/04/banner1.jpg
END:VEVENT
BEGIN:VEVENT
DTSTART;TZID=America/New_York:20251118T130000
DTEND;TZID=America/New_York:20251118T130000
DTSTAMP:20260419T081603
CREATED:20230718T152804Z
LAST-MODIFIED:20240606T140250Z
UID:10001723-1763470800-1763470800@cencogan.com
SUMMARY:Subasta comercial
DESCRIPTION:Registrese y\nCompre \nVer el\nReglamento \nInformes\n300 693 7161
URL:https://cencogan.com/evento/subasta-semanal-planeta-rica/2025-11-18/
LOCATION:Cencogan Planeta Rica\, Planeta Rica\, Colombia
CATEGORIES:General,Planeta Rica
ATTACH;FMTTYPE=image/jpeg:https://cencogan.com/wp-content/uploads/2023/04/banner1.jpg
END:VEVENT
BEGIN:VEVENT
DTSTART;TZID=America/New_York:20251120T120000
DTEND;TZID=America/New_York:20251120T120000
DTSTAMP:20260419T081603
CREATED:20230726T164917Z
LAST-MODIFIED:20240606T140359Z
UID:10002018-1763640000-1763640000@cencogan.com
SUMMARY:Subasta comercial
DESCRIPTION:Registrese y\nCompre \nVer el\nReglamento \nInformes\n301 660 5574
URL:https://cencogan.com/evento/subasta-semanal-buenavista/2025-11-20/
LOCATION:Cencogan Buenavista\, Cencogan Buenavista\, Buenavista\, Colombia
CATEGORIES:Buenavista,General
ATTACH;FMTTYPE=image/jpeg:https://cencogan.com/wp-content/uploads/2023/04/banner2.jpg
END:VEVENT
BEGIN:VEVENT
DTSTART;TZID=America/New_York:20251122T150000
DTEND;TZID=America/New_York:20251122T150000
DTSTAMP:20260419T081603
CREATED:20241106T182757Z
LAST-MODIFIED:20251107T133609Z
UID:10002263-1763823600-1763823600@cencogan.com
SUMMARY:4° Aniversario Cencogan Planeta Rica
DESCRIPTION:Registrese y\nCompre \nInformes\n300 693 7161
URL:https://cencogan.com/evento/aniversario-planeta/
LOCATION:Cencogan Planeta Rica\, Planeta Rica\, Colombia
CATEGORIES:Especiales,General,Planeta Rica
ATTACH;FMTTYPE=image/jpeg:https://cencogan.com/wp-content/uploads/2025/11/Aniversario-Planeta-1.jpg
END:VEVENT
BEGIN:VEVENT
DTSTART;TZID=America/New_York:20251125T130000
DTEND;TZID=America/New_York:20251125T130000
DTSTAMP:20260419T081604
CREATED:20230718T152804Z
LAST-MODIFIED:20240606T140250Z
UID:10001724-1764075600-1764075600@cencogan.com
SUMMARY:Subasta comercial
DESCRIPTION:Registrese y\nCompre \nVer el\nReglamento \nInformes\n300 693 7161
URL:https://cencogan.com/evento/subasta-semanal-planeta-rica/2025-11-25/
LOCATION:Cencogan Planeta Rica\, Planeta Rica\, Colombia
CATEGORIES:General,Planeta Rica
ATTACH;FMTTYPE=image/jpeg:https://cencogan.com/wp-content/uploads/2023/04/banner1.jpg
END:VEVENT
BEGIN:VEVENT
DTSTART;TZID=America/New_York:20251127T120000
DTEND;TZID=America/New_York:20251127T120000
DTSTAMP:20260419T081604
CREATED:20230726T164917Z
LAST-MODIFIED:20240606T140359Z
UID:10002019-1764244800-1764244800@cencogan.com
SUMMARY:Subasta comercial
DESCRIPTION:Registrese y\nCompre \nVer el\nReglamento \nInformes\n301 660 5574
URL:https://cencogan.com/evento/subasta-semanal-buenavista/2025-11-27/
LOCATION:Cencogan Buenavista\, Cencogan Buenavista\, Buenavista\, Colombia
CATEGORIES:Buenavista,General
ATTACH;FMTTYPE=image/jpeg:https://cencogan.com/wp-content/uploads/2023/04/banner2.jpg
END:VEVENT
BEGIN:VEVENT
DTSTART;TZID=America/New_York:20251128T140000
DTEND;TZID=America/New_York:20251128T140000
DTSTAMP:20260419T081604
CREATED:20250129T125606Z
LAST-MODIFIED:20250129T130157Z
UID:10003234-1764338400-1764338400@cencogan.com
SUMMARY:Subasta comercial
DESCRIPTION:Registrese y\nCompre \nVer el\nReglamento \nInformes\n300 693 7161
URL:https://cencogan.com/evento/subasta-comercial-2/2025-11-28/
LOCATION:Cencogan Tarazá\, Km 1 vía Tarazá - Caucasia\, Tarazá\, Antioquia\, Colombia
CATEGORIES:General,Tarazá
ATTACH;FMTTYPE=image/jpeg:https://cencogan.com/wp-content/uploads/2023/04/banner1.jpg
END:VEVENT
BEGIN:VEVENT
DTSTART;TZID=America/New_York:20251202T130000
DTEND;TZID=America/New_York:20251202T130000
DTSTAMP:20260419T081604
CREATED:20230718T152804Z
LAST-MODIFIED:20240606T140250Z
UID:10001725-1764680400-1764680400@cencogan.com
SUMMARY:Subasta comercial
DESCRIPTION:Registrese y\nCompre \nVer el\nReglamento \nInformes\n300 693 7161
URL:https://cencogan.com/evento/subasta-semanal-planeta-rica/2025-12-02/
LOCATION:Cencogan Planeta Rica\, Planeta Rica\, Colombia
CATEGORIES:General,Planeta Rica
ATTACH;FMTTYPE=image/jpeg:https://cencogan.com/wp-content/uploads/2023/04/banner1.jpg
END:VEVENT
BEGIN:VEVENT
DTSTART;TZID=America/New_York:20251204T120000
DTEND;TZID=America/New_York:20251204T120000
DTSTAMP:20260419T081604
CREATED:20230726T164917Z
LAST-MODIFIED:20240606T140359Z
UID:10002020-1764849600-1764849600@cencogan.com
SUMMARY:Subasta comercial
DESCRIPTION:Registrese y\nCompre \nVer el\nReglamento \nInformes\n301 660 5574
URL:https://cencogan.com/evento/subasta-semanal-buenavista/2025-12-04/
LOCATION:Cencogan Buenavista\, Cencogan Buenavista\, Buenavista\, Colombia
CATEGORIES:Buenavista,General
ATTACH;FMTTYPE=image/jpeg:https://cencogan.com/wp-content/uploads/2023/04/banner2.jpg
END:VEVENT
BEGIN:VEVENT
DTSTART;TZID=America/New_York:20251206T150000
DTEND;TZID=America/New_York:20251206T150000
DTSTAMP:20260419T081604
CREATED:20251107T140827Z
LAST-MODIFIED:20251107T140827Z
UID:10003361-1765033200-1765033200@cencogan.com
SUMMARY:Patrimonio Bufalero
DESCRIPTION:Registrese y\nCompre \nInformes\n301 660 5574
URL:https://cencogan.com/evento/patrimonio-bufalero/
LOCATION:Cencogan Buenavista\, Cencogan Buenavista\, Buenavista\, Colombia
CATEGORIES:Especiales,General
ATTACH;FMTTYPE=image/jpeg:https://cencogan.com/wp-content/uploads/2025/11/Patrimionio-Bufalero.jpg
END:VEVENT
BEGIN:VEVENT
DTSTART;TZID=America/New_York:20251209T130000
DTEND;TZID=America/New_York:20251209T130000
DTSTAMP:20260419T081604
CREATED:20230718T152804Z
LAST-MODIFIED:20240606T140250Z
UID:10001726-1765285200-1765285200@cencogan.com
SUMMARY:Subasta comercial
DESCRIPTION:Registrese y\nCompre \nVer el\nReglamento \nInformes\n300 693 7161
URL:https://cencogan.com/evento/subasta-semanal-planeta-rica/2025-12-09/
LOCATION:Cencogan Planeta Rica\, Planeta Rica\, Colombia
CATEGORIES:General,Planeta Rica
ATTACH;FMTTYPE=image/jpeg:https://cencogan.com/wp-content/uploads/2023/04/banner1.jpg
END:VEVENT
BEGIN:VEVENT
DTSTART;TZID=America/New_York:20251211T120000
DTEND;TZID=America/New_York:20251211T120000
DTSTAMP:20260419T081604
CREATED:20230726T164917Z
LAST-MODIFIED:20240606T140359Z
UID:10002021-1765454400-1765454400@cencogan.com
SUMMARY:Subasta comercial
DESCRIPTION:Registrese y\nCompre \nVer el\nReglamento \nInformes\n301 660 5574
URL:https://cencogan.com/evento/subasta-semanal-buenavista/2025-12-11/
LOCATION:Cencogan Buenavista\, Cencogan Buenavista\, Buenavista\, Colombia
CATEGORIES:Buenavista,General
ATTACH;FMTTYPE=image/jpeg:https://cencogan.com/wp-content/uploads/2023/04/banner2.jpg
END:VEVENT
BEGIN:VEVENT
DTSTART;TZID=America/New_York:20251212T140000
DTEND;TZID=America/New_York:20251212T140000
DTSTAMP:20260419T081604
CREATED:20250129T125606Z
LAST-MODIFIED:20250129T130157Z
UID:10003235-1765548000-1765548000@cencogan.com
SUMMARY:Subasta comercial
DESCRIPTION:Registrese y\nCompre \nVer el\nReglamento \nInformes\n300 693 7161
URL:https://cencogan.com/evento/subasta-comercial-2/2025-12-12/
LOCATION:Cencogan Tarazá\, Km 1 vía Tarazá - Caucasia\, Tarazá\, Antioquia\, Colombia
CATEGORIES:General,Tarazá
ATTACH;FMTTYPE=image/jpeg:https://cencogan.com/wp-content/uploads/2023/04/banner1.jpg
END:VEVENT
BEGIN:VEVENT
DTSTART;TZID=America/New_York:20251213T150000
DTEND;TZID=America/New_York:20251213T150000
DTSTAMP:20260419T081604
CREATED:20251107T140555Z
LAST-MODIFIED:20251107T140555Z
UID:10003360-1765638000-1765638000@cencogan.com
SUMMARY:11° Aniversario Cencogan Buenavista
DESCRIPTION:Registrese y\nCompre \nInformes\n301 660 5574
URL:https://cencogan.com/evento/aniversario-buenavista-2/
LOCATION:Cencogan Buenavista\, Cencogan Buenavista\, Buenavista\, Colombia
CATEGORIES:Buenavista,Especiales,General
ATTACH;FMTTYPE=image/jpeg:https://cencogan.com/wp-content/uploads/2025/11/Aniversario-Buenavista-1.jpg
END:VEVENT
BEGIN:VEVENT
DTSTART;TZID=America/New_York:20251216T130000
DTEND;TZID=America/New_York:20251216T130000
DTSTAMP:20260419T081604
CREATED:20230718T152804Z
LAST-MODIFIED:20240606T140250Z
UID:10001727-1765890000-1765890000@cencogan.com
SUMMARY:Subasta comercial
DESCRIPTION:Registrese y\nCompre \nVer el\nReglamento \nInformes\n300 693 7161
URL:https://cencogan.com/evento/subasta-semanal-planeta-rica/2025-12-16/
LOCATION:Cencogan Planeta Rica\, Planeta Rica\, Colombia
CATEGORIES:General,Planeta Rica
ATTACH;FMTTYPE=image/jpeg:https://cencogan.com/wp-content/uploads/2023/04/banner1.jpg
END:VEVENT
BEGIN:VEVENT
DTSTART;TZID=America/New_York:20251218T120000
DTEND;TZID=America/New_York:20251218T120000
DTSTAMP:20260419T081604
CREATED:20230726T164917Z
LAST-MODIFIED:20240606T140359Z
UID:10002022-1766059200-1766059200@cencogan.com
SUMMARY:Subasta comercial
DESCRIPTION:Registrese y\nCompre \nVer el\nReglamento \nInformes\n301 660 5574
URL:https://cencogan.com/evento/subasta-semanal-buenavista/2025-12-18/
LOCATION:Cencogan Buenavista\, Cencogan Buenavista\, Buenavista\, Colombia
CATEGORIES:Buenavista,General
ATTACH;FMTTYPE=image/jpeg:https://cencogan.com/wp-content/uploads/2023/04/banner2.jpg
END:VEVENT
BEGIN:VEVENT
DTSTART;TZID=America/New_York:20251223T130000
DTEND;TZID=America/New_York:20251223T130000
DTSTAMP:20260419T081604
CREATED:20230718T152804Z
LAST-MODIFIED:20240606T140250Z
UID:10001728-1766494800-1766494800@cencogan.com
SUMMARY:Subasta comercial
DESCRIPTION:Registrese y\nCompre \nVer el\nReglamento \nInformes\n300 693 7161
URL:https://cencogan.com/evento/subasta-semanal-planeta-rica/2025-12-23/
LOCATION:Cencogan Planeta Rica\, Planeta Rica\, Colombia
CATEGORIES:General,Planeta Rica
ATTACH;FMTTYPE=image/jpeg:https://cencogan.com/wp-content/uploads/2023/04/banner1.jpg
END:VEVENT
BEGIN:VEVENT
DTSTART;TZID=America/New_York:20251225T120000
DTEND;TZID=America/New_York:20251225T120000
DTSTAMP:20260419T081604
CREATED:20230726T164917Z
LAST-MODIFIED:20240606T140359Z
UID:10002023-1766664000-1766664000@cencogan.com
SUMMARY:Subasta comercial
DESCRIPTION:Registrese y\nCompre \nVer el\nReglamento \nInformes\n301 660 5574
URL:https://cencogan.com/evento/subasta-semanal-buenavista/2025-12-25/
LOCATION:Cencogan Buenavista\, Cencogan Buenavista\, Buenavista\, Colombia
CATEGORIES:Buenavista,General
ATTACH;FMTTYPE=image/jpeg:https://cencogan.com/wp-content/uploads/2023/04/banner2.jpg
END:VEVENT
BEGIN:VEVENT
DTSTART;TZID=America/New_York:20251226T140000
DTEND;TZID=America/New_York:20251226T140000
DTSTAMP:20260419T081604
CREATED:20250129T125606Z
LAST-MODIFIED:20250129T130157Z
UID:10003236-1766757600-1766757600@cencogan.com
SUMMARY:Subasta comercial
DESCRIPTION:Registrese y\nCompre \nVer el\nReglamento \nInformes\n300 693 7161
URL:https://cencogan.com/evento/subasta-comercial-2/2025-12-26/
LOCATION:Cencogan Tarazá\, Km 1 vía Tarazá - Caucasia\, Tarazá\, Antioquia\, Colombia
CATEGORIES:General,Tarazá
ATTACH;FMTTYPE=image/jpeg:https://cencogan.com/wp-content/uploads/2023/04/banner1.jpg
END:VEVENT
BEGIN:VEVENT
DTSTART;TZID=America/New_York:20251230T130000
DTEND;TZID=America/New_York:20251230T130000
DTSTAMP:20260419T081604
CREATED:20230718T152804Z
LAST-MODIFIED:20240606T140250Z
UID:10001729-1767099600-1767099600@cencogan.com
SUMMARY:Subasta comercial
DESCRIPTION:Registrese y\nCompre \nVer el\nReglamento \nInformes\n300 693 7161
URL:https://cencogan.com/evento/subasta-semanal-planeta-rica/2025-12-30/
LOCATION:Cencogan Planeta Rica\, Planeta Rica\, Colombia
CATEGORIES:General,Planeta Rica
ATTACH;FMTTYPE=image/jpeg:https://cencogan.com/wp-content/uploads/2023/04/banner1.jpg
END:VEVENT
BEGIN:VEVENT
DTSTART;TZID=America/New_York:20260101T120000
DTEND;TZID=America/New_York:20260101T120000
DTSTAMP:20260419T081604
CREATED:20230726T164917Z
LAST-MODIFIED:20240606T140359Z
UID:10002024-1767268800-1767268800@cencogan.com
SUMMARY:Subasta comercial
DESCRIPTION:Registrese y\nCompre \nVer el\nReglamento \nInformes\n301 660 5574
URL:https://cencogan.com/evento/subasta-semanal-buenavista/2026-01-01/
LOCATION:Cencogan Buenavista\, Cencogan Buenavista\, Buenavista\, Colombia
CATEGORIES:Buenavista,General
ATTACH;FMTTYPE=image/jpeg:https://cencogan.com/wp-content/uploads/2023/04/banner2.jpg
END:VEVENT
BEGIN:VEVENT
DTSTART;TZID=America/New_York:20260106T130000
DTEND;TZID=America/New_York:20260106T130000
DTSTAMP:20260419T081604
CREATED:20230718T152804Z
LAST-MODIFIED:20240606T140250Z
UID:10001730-1767704400-1767704400@cencogan.com
SUMMARY:Subasta comercial
DESCRIPTION:Registrese y\nCompre \nVer el\nReglamento \nInformes\n300 693 7161
URL:https://cencogan.com/evento/subasta-semanal-planeta-rica/2026-01-06/
LOCATION:Cencogan Planeta Rica\, Planeta Rica\, Colombia
CATEGORIES:General,Planeta Rica
ATTACH;FMTTYPE=image/jpeg:https://cencogan.com/wp-content/uploads/2023/04/banner1.jpg
END:VEVENT
BEGIN:VEVENT
DTSTART;TZID=America/New_York:20260108T120000
DTEND;TZID=America/New_York:20260108T120000
DTSTAMP:20260419T081604
CREATED:20230726T164917Z
LAST-MODIFIED:20240606T140359Z
UID:10002025-1767873600-1767873600@cencogan.com
SUMMARY:Subasta comercial
DESCRIPTION:Registrese y\nCompre \nVer el\nReglamento \nInformes\n301 660 5574
URL:https://cencogan.com/evento/subasta-semanal-buenavista/2026-01-08/
LOCATION:Cencogan Buenavista\, Cencogan Buenavista\, Buenavista\, Colombia
CATEGORIES:Buenavista,General
ATTACH;FMTTYPE=image/jpeg:https://cencogan.com/wp-content/uploads/2023/04/banner2.jpg
END:VEVENT
BEGIN:VEVENT
DTSTART;TZID=America/New_York:20260109T140000
DTEND;TZID=America/New_York:20260109T140000
DTSTAMP:20260419T081604
CREATED:20250129T125606Z
LAST-MODIFIED:20250129T130157Z
UID:10003237-1767967200-1767967200@cencogan.com
SUMMARY:Subasta comercial
DESCRIPTION:Registrese y\nCompre \nVer el\nReglamento \nInformes\n300 693 7161
URL:https://cencogan.com/evento/subasta-comercial-2/2026-01-09/
LOCATION:Cencogan Tarazá\, Km 1 vía Tarazá - Caucasia\, Tarazá\, Antioquia\, Colombia
CATEGORIES:General,Tarazá
ATTACH;FMTTYPE=image/jpeg:https://cencogan.com/wp-content/uploads/2023/04/banner1.jpg
END:VEVENT
BEGIN:VEVENT
DTSTART;TZID=America/New_York:20260113T130000
DTEND;TZID=America/New_York:20260113T130000
DTSTAMP:20260419T081604
CREATED:20230718T152804Z
LAST-MODIFIED:20240606T140250Z
UID:10001731-1768309200-1768309200@cencogan.com
SUMMARY:Subasta comercial
DESCRIPTION:Registrese y\nCompre \nVer el\nReglamento \nInformes\n300 693 7161
URL:https://cencogan.com/evento/subasta-semanal-planeta-rica/2026-01-13/
LOCATION:Cencogan Planeta Rica\, Planeta Rica\, Colombia
CATEGORIES:General,Planeta Rica
ATTACH;FMTTYPE=image/jpeg:https://cencogan.com/wp-content/uploads/2023/04/banner1.jpg
END:VEVENT
BEGIN:VEVENT
DTSTART;TZID=America/New_York:20260115T120000
DTEND;TZID=America/New_York:20260115T120000
DTSTAMP:20260419T081604
CREATED:20230726T164917Z
LAST-MODIFIED:20240606T140359Z
UID:10002026-1768478400-1768478400@cencogan.com
SUMMARY:Subasta comercial
DESCRIPTION:Registrese y\nCompre \nVer el\nReglamento \nInformes\n301 660 5574
URL:https://cencogan.com/evento/subasta-semanal-buenavista/2026-01-15/
LOCATION:Cencogan Buenavista\, Cencogan Buenavista\, Buenavista\, Colombia
CATEGORIES:Buenavista,General
ATTACH;FMTTYPE=image/jpeg:https://cencogan.com/wp-content/uploads/2023/04/banner2.jpg
END:VEVENT
END:VCALENDAR