BEGIN:VCALENDAR
VERSION:2.0
PRODID:-//Cencogan - ECPv6.4.0.1//NONSGML v1.0//EN
CALSCALE:GREGORIAN
METHOD:PUBLISH
X-ORIGINAL-URL:https://cencogan.com
X-WR-CALDESC:Eventos para Cencogan
REFRESH-INTERVAL;VALUE=DURATION:PT1H
X-Robots-Tag:noindex
X-PUBLISHED-TTL:PT1H
BEGIN:VTIMEZONE
TZID:America/New_York
BEGIN:DAYLIGHT
TZOFFSETFROM:-0500
TZOFFSETTO:-0400
TZNAME:EDT
DTSTART:20250309T070000
END:DAYLIGHT
BEGIN:STANDARD
TZOFFSETFROM:-0400
TZOFFSETTO:-0500
TZNAME:EST
DTSTART:20251102T060000
END:STANDARD
END:VTIMEZONE
BEGIN:VEVENT
DTSTART;TZID=America/New_York:20250718T150000
DTEND;TZID=America/New_York:20250718T150000
DTSTAMP:20260422T135015
CREATED:20250708T123113Z
LAST-MODIFIED:20250708T123113Z
UID:10003359-1752850800-1752850800@cencogan.com
SUMMARY:Tarazá Ganadera
DESCRIPTION:Registrese y\nCompre \nInformes\n300 559 8658\nManuel Vergara
URL:https://cencogan.com/evento/taraza-ganadera-2/
LOCATION:Antioquia
CATEGORIES:Especiales,General,Tarazá
ATTACH;FMTTYPE=image/jpeg:https://cencogan.com/wp-content/uploads/2025/07/Taraza-Ganadera2.jpg
END:VEVENT
END:VCALENDAR