BEGIN:VCALENDAR
VERSION:2.0
PRODID:-//Cencogan - ECPv6.4.0.1//NONSGML v1.0//EN
CALSCALE:GREGORIAN
METHOD:PUBLISH
X-ORIGINAL-URL:https://cencogan.com
X-WR-CALDESC:Eventos para Cencogan
REFRESH-INTERVAL;VALUE=DURATION:PT1H
X-Robots-Tag:noindex
X-PUBLISHED-TTL:PT1H
BEGIN:VTIMEZONE
TZID:America/New_York
BEGIN:DAYLIGHT
TZOFFSETFROM:-0500
TZOFFSETTO:-0400
TZNAME:EDT
DTSTART:20250309T070000
END:DAYLIGHT
BEGIN:STANDARD
TZOFFSETFROM:-0400
TZOFFSETTO:-0500
TZNAME:EST
DTSTART:20251102T060000
END:STANDARD
END:VTIMEZONE
BEGIN:VEVENT
DTSTART;TZID=America/New_York:20250906T150000
DTEND;TZID=America/New_York:20250906T150000
DTSTAMP:20260422T152832
CREATED:20240802T141104Z
LAST-MODIFIED:20250814T215444Z
UID:10002256-1757170800-1757170800@cencogan.com
SUMMARY:Territorio Nelore Ciclo Corto
DESCRIPTION:Registrese y\nCompre \nInformes\n301 660 5574
URL:https://cencogan.com/evento/territorio-nelore-cc2/
LOCATION:Cencogan Buenavista\, Cencogan Buenavista\, Buenavista\, Colombia
CATEGORIES:Buenavista,Especiales,General
ATTACH;FMTTYPE=image/jpeg:https://cencogan.com/wp-content/uploads/2025/08/Territorio-nelore-ciclo-corto-2025.jpg
END:VEVENT
BEGIN:VEVENT
DTSTART;TZID=America/New_York:20250913T150000
DTEND;TZID=America/New_York:20250913T150000
DTSTAMP:20260422T152832
CREATED:20240723T160332Z
LAST-MODIFIED:20250814T215304Z
UID:10002255-1757775600-1757775600@cencogan.com
SUMMARY:Territorio Bufalero
DESCRIPTION:Registrese y\nCompre \nInformes\n301 660 5574 \nWilson Cuartas \nVer Catálogo \nTerritorio Bufalero 2025
URL:https://cencogan.com/evento/territorio-bufalero-2/
LOCATION:Cencogan Buenavista\, Cencogan Buenavista\, Buenavista\, Colombia
CATEGORIES:Buenavista,Especiales,General
ATTACH;FMTTYPE=image/jpeg:https://cencogan.com/wp-content/uploads/2025/08/Territorio-Bufalero-2025-2.jpg
END:VEVENT
BEGIN:VEVENT
DTSTART;VALUE=DATE:20250927
DTEND;VALUE=DATE:20250928
DTSTAMP:20260422T152832
CREATED:20250408T211929Z
LAST-MODIFIED:20250916T122510Z
UID:10003346-1758931200-1759017599@cencogan.com
SUMMARY:Gran Remate Tradición Montecarlo 2.ª Versión
DESCRIPTION:Faltan0000Days00Hrs00Min00SecGANADERÍA MONTECARLO tiene el honor de invitarlo a ser parte de la 2.ª VERSIÓN DEL GRAN REMATE TRADICIÓN MONTECARLO. \nUn evento donde reafirmamos nuestro compromiso con la promoción y el mejoramiento continuo de la raza Brahmán y otras razas de alto valor genético. \nDurante años\, hemos trabajado con pasión y dedicación para que esta raza siga ganando reconocimiento y avance en su desarrollo genético. \nGANADERÍA MONTECARLO tiene el honor de invitarlo a ser parte de la 2.ª VERSIÓN DEL GRAN REMATE TRADICIÓN MONTECARLO. \nUn evento donde reafirmamos nuestro compromiso con la promoción y el mejoramiento continuo de la raza Brahmán y otras razas de alto valor genético. \nDurante años\, hemos trabajado con pasión y dedicación para que esta raza siga ganando reconocimiento y avance en su desarrollo genético. \nALIADOS DE TRADICIÓN Y CALIDAD Marcas que respaldan la excelencia genética ALIADOS DE TRADICIÓN Y CALIDAD Marcas que respaldan la excelencia genética Montecarlo brilló en la Feria de las Flores ✨ Sorry\, your browser doesn't support embedded videos.La primera versión de Tradición Montecarlo fue todo un éxito \n				\n					\n					\n					\n				Loading the next set of gallery items...Cargar Mas...+0Casas Comerciales0Ganaderias Invitadas+0Ganaderos Nacionales e Internacionales0KVisualizaciones en redes¿DÓNDE SE VIVE LA TRADICIÓN? Conoce el escenario que reunirá lo mejor de la ganadería \nInscribirseInscribirse \n¿QUIERES PARTICIPAR O ASISTIR? Déjanos tus datos y pronto nos pondremos en contacto InteresParticiparAsistirPatrocinarComprar  EnviarGracias por enviar el formulario. Lo hemos recibido.×Hubo un error al intentar enviar su formulario. Por favor contáctenos dando aviso del problema.×
URL:https://cencogan.com/evento/montecarlo/
LOCATION:Antioquia
CATEGORIES:Especiales,General
ATTACH;FMTTYPE=image/jpeg:https://cencogan.com/wp-content/uploads/2025/04/Banner-Montecarlo2.jpg
END:VEVENT
END:VCALENDAR