BEGIN:VCALENDAR
VERSION:2.0
PRODID:-//Cencogan - ECPv6.4.0.1//NONSGML v1.0//EN
CALSCALE:GREGORIAN
METHOD:PUBLISH
X-WR-CALNAME:Cencogan
X-ORIGINAL-URL:https://cencogan.com
X-WR-CALDESC:Eventos para Cencogan
REFRESH-INTERVAL;VALUE=DURATION:PT1H
X-Robots-Tag:noindex
X-PUBLISHED-TTL:PT1H
BEGIN:VTIMEZONE
TZID:America/New_York
BEGIN:DAYLIGHT
TZOFFSETFROM:-0500
TZOFFSETTO:-0400
TZNAME:EDT
DTSTART:20240310T070000
END:DAYLIGHT
BEGIN:STANDARD
TZOFFSETFROM:-0400
TZOFFSETTO:-0500
TZNAME:EST
DTSTART:20241103T060000
END:STANDARD
END:VTIMEZONE
BEGIN:VEVENT
DTSTART;TZID=America/New_York:20240127T150000
DTEND;TZID=America/New_York:20240127T150000
DTSTAMP:20260422T044554
CREATED:20240104T184638Z
LAST-MODIFIED:20240521T123738Z
UID:10001890-1706367600-1706367600@cencogan.com
SUMMARY:Un Premio Para El Trópico
DESCRIPTION:Registrese y\nCompre \nInformes\n301 660 5574 \nCatalogo \n\n    \n        \n            \n                           \n            \n            \n                    \n                    LOTE 1  \n                                  \n                    📆 Sábado 27 de Enero de 2024\n🕒 2:00 p.m.\n📍 Coliseo Cencogan (Buenavista - Córdoba)\n                            \n        \n        \n                            \n                    \n    \n        Now Playing        \n    \n    \n         \n            LOTE 1\n         \n                  \n            📆 Sábado 27 de Enero de 2024\n🕒 2:00 p.m.\n📍 Coliseo Cencogan (Buenavista - Córdoba)\n                       \n                \n                            \n                    \n    \n        Now Playing        \n    \n    \n         \n            LOTE 2\n         \n                  \n            📆 Sábado 27 de Enero de 2024\n🕒 2:00 p.m.\n📍 Coliseo Cencogan (Buenavista - Córdoba)\n                       \n                \n                            \n                    \n    \n        Now Playing        \n    \n    \n         \n            LOTE 3\n         \n                  \n            📆 Sábado 27 de Enero de 2024\n🕒 2:00 p.m.\n📍 Coliseo Cencogan (Buenavista - Córdoba)\n                       \n                \n                            \n                    \n    \n        Now Playing        \n    \n    \n         \n            LOTE 4\n         \n                  \n            📆 Sábado 27 de Enero de 2024\n🕒 2:00 p.m.\n📍 Coliseo Cencogan (Buenavista - Córdoba)\n                       \n                \n                            \n                    \n    \n        Now Playing        \n    \n    \n         \n            LOTE 5\n         \n                  \n            📆 Sábado 27 de Enero de 2024\n🕒 2:00 p.m.\n📍 Coliseo Cencogan (Buenavista - Córdoba)\n                       \n                \n                    \n        \n            \n            Previous\n        \n        \n            1\n            de            10\n        \n        \n            Siguiente
URL:https://cencogan.com/evento/premio-tropico/
LOCATION:Cencogan Buenavista\, Cencogan Buenavista\, Buenavista\, Colombia
CATEGORIES:Buenavista,Especiales,General
ATTACH;FMTTYPE=image/jpeg:https://cencogan.com/wp-content/uploads/2024/01/0182_CENCOGAN_banner-un-premio-para-el-tropico_Banner-Web.jpg
END:VEVENT
END:VCALENDAR